BEGIN:VCALENDAR
VERSION:2.0
PRODID:-//VendrediX - ECPv6.15.20//NONSGML v1.0//EN
CALSCALE:GREGORIAN
METHOD:PUBLISH
X-WR-CALNAME:VendrediX
X-ORIGINAL-URL:https://vendredix.fr
X-WR-CALDESC:Évènements pour VendrediX
REFRESH-INTERVAL;VALUE=DURATION:PT1H
X-Robots-Tag:noindex
X-PUBLISHED-TTL:PT1H
BEGIN:VTIMEZONE
TZID:Europe/Paris
BEGIN:DAYLIGHT
TZOFFSETFROM:+0100
TZOFFSETTO:+0200
TZNAME:CEST
DTSTART:20240331T010000
END:DAYLIGHT
BEGIN:STANDARD
TZOFFSETFROM:+0200
TZOFFSETTO:+0100
TZNAME:CET
DTSTART:20241027T010000
END:STANDARD
BEGIN:DAYLIGHT
TZOFFSETFROM:+0100
TZOFFSETTO:+0200
TZNAME:CEST
DTSTART:20250330T010000
END:DAYLIGHT
BEGIN:STANDARD
TZOFFSETFROM:+0200
TZOFFSETTO:+0100
TZNAME:CET
DTSTART:20251026T010000
END:STANDARD
BEGIN:DAYLIGHT
TZOFFSETFROM:+0100
TZOFFSETTO:+0200
TZNAME:CEST
DTSTART:20260329T010000
END:DAYLIGHT
BEGIN:STANDARD
TZOFFSETFROM:+0200
TZOFFSETTO:+0100
TZNAME:CET
DTSTART:20261025T010000
END:STANDARD
END:VTIMEZONE
BEGIN:VEVENT
DTSTART;VALUE=DATE:20251031
DTEND;VALUE=DATE:20251222
DTSTAMP:20260423T034215
CREATED:20250605T185806Z
LAST-MODIFIED:20250801T093612Z
UID:272585-1761868800-1766361599@vendredix.fr
SUMMARY:A Partir D’un Rien
DESCRIPTION:A Partir D’un Rien\n				\n				\n			\n			\n				\n				\n				\n				\n			\n				\n				\n				\n				\n				\n				\n				\n				\n				\n				\n				Mathieu et Jonas s’aiment. Ou s’aimaient. Ce soir\, ils se quittent. Pas pour de bon. Pas encore. \n			\n				\n				\n				\n				\n				\n			\n				\n				\n				\n				\n				Dans cette chambre vidée de toute intimité\, autour d’un lit sans passion\, de verres partagés et de silences trop lourds\, ils rejouent leur histoire : les premières fois\, les maladresses\, les fous rires\, les blessures qu’on tait. Une dernière danse\, entre tendresse\, sarcasme et vérités qui claquent. Et si\, à partir de presque rien\, on pouvait tout briser et tout perdre ? \n			\n				\n				\n				\n				\n				\n			\n			\n				\n				\n				\n				\n				\n				\n				\n				\n				\n				Une comédie dramatique percutante\, drôle et lucide sur l’usure du quotidien\, les idéaux qui s’effondrent… et l’amour qui résiste. Ou pas. \n			\n				\n				\n				\n				\n				Avec Nicolas Bouyre & Yohann LavéantDe Silas Van AschScénographie Julien O Van Den DaeleCréation lumière Loïc PracheChorégraphie Kévin Saenger \n			\n				\n				\n				\n				\n				\n			\n				\n				\n				\n				\n				A partir du 31 octobre 2025 au théâtre Clavel. \nVendredis 19h30Dimanches 16h00 \n			\n				RESERVER
URL:https://vendredix.fr/event/a-partir-dun-rien/
ATTACH;FMTTYPE=image/jpeg:https://vendredix.fr/wp-content/uploads/2025/05/rien1.jpg
END:VEVENT
END:VCALENDAR