BEGIN:VCALENDAR
VERSION:2.0
PRODID:-//VendrediX - ECPv6.15.20//NONSGML v1.0//EN
CALSCALE:GREGORIAN
METHOD:PUBLISH
X-WR-CALNAME:VendrediX
X-ORIGINAL-URL:https://vendredix.fr
X-WR-CALDESC:Évènements pour VendrediX
REFRESH-INTERVAL;VALUE=DURATION:PT1H
X-Robots-Tag:noindex
X-PUBLISHED-TTL:PT1H
BEGIN:VTIMEZONE
TZID:Europe/Paris
BEGIN:DAYLIGHT
TZOFFSETFROM:+0100
TZOFFSETTO:+0200
TZNAME:CEST
DTSTART:20250330T010000
END:DAYLIGHT
BEGIN:STANDARD
TZOFFSETFROM:+0200
TZOFFSETTO:+0100
TZNAME:CET
DTSTART:20251026T010000
END:STANDARD
BEGIN:DAYLIGHT
TZOFFSETFROM:+0100
TZOFFSETTO:+0200
TZNAME:CEST
DTSTART:20260329T010000
END:DAYLIGHT
BEGIN:STANDARD
TZOFFSETFROM:+0200
TZOFFSETTO:+0100
TZNAME:CET
DTSTART:20261025T010000
END:STANDARD
BEGIN:DAYLIGHT
TZOFFSETFROM:+0100
TZOFFSETTO:+0200
TZNAME:CEST
DTSTART:20270328T010000
END:DAYLIGHT
BEGIN:STANDARD
TZOFFSETFROM:+0200
TZOFFSETTO:+0100
TZNAME:CET
DTSTART:20271031T010000
END:STANDARD
END:VTIMEZONE
BEGIN:VEVENT
DTSTART;TZID=Europe/Paris:20260529T230000
DTEND;TZID=Europe/Paris:20260530T120000
DTSTAMP:20260422T111509
CREATED:20250714T135658Z
LAST-MODIFIED:20260407T163542Z
UID:274043-1780095600-1780142400@vendredix.fr
SUMMARY:DI.X FVTVR | PARTY & AFTER
DESCRIPTION:UNDERGROUNDTECHNOLE.SON.MAÎTRECLUB.FVTVR \n			\n				PREVENTES\n			\n				\n				\n				\n				\n				DI.X promet un retour aux fondamentaux de la techno. Les beats répétitifs et les basses profondes vont t’emporter dans un voyage rythmique sans fin. Les lumières\, simples mais efficaces\, créeront une atmosphère hypnotique qui te plongera au cœur de la musique. \n			\n				PLUS D'INFOS
URL:https://vendredix.fr/event/di-x-fvtvr-6/
LOCATION:FVTVR\, 32 Quai d'Austerlitz\, 75013 Paris\, Paris\, 75013\, France
CATEGORIES:DI.X
ATTACH;FMTTYPE=image/png:https://vendredix.fr/wp-content/uploads/2024/10/DIX-Formats-03.png
END:VEVENT
END:VCALENDAR