BEGIN:VCALENDAR
VERSION:2.0
PRODID:-//VendrediX - ECPv6.15.20//NONSGML v1.0//EN
CALSCALE:GREGORIAN
METHOD:PUBLISH
X-WR-CALNAME:VendrediX
X-ORIGINAL-URL:https://vendredix.fr
X-WR-CALDESC:Évènements pour VendrediX
REFRESH-INTERVAL;VALUE=DURATION:PT1H
X-Robots-Tag:noindex
X-PUBLISHED-TTL:PT1H
BEGIN:VTIMEZONE
TZID:Europe/Paris
BEGIN:DAYLIGHT
TZOFFSETFROM:+0100
TZOFFSETTO:+0200
TZNAME:CEST
DTSTART:20240331T010000
END:DAYLIGHT
BEGIN:STANDARD
TZOFFSETFROM:+0200
TZOFFSETTO:+0100
TZNAME:CET
DTSTART:20241027T010000
END:STANDARD
BEGIN:DAYLIGHT
TZOFFSETFROM:+0100
TZOFFSETTO:+0200
TZNAME:CEST
DTSTART:20250330T010000
END:DAYLIGHT
BEGIN:STANDARD
TZOFFSETFROM:+0200
TZOFFSETTO:+0100
TZNAME:CET
DTSTART:20251026T010000
END:STANDARD
BEGIN:DAYLIGHT
TZOFFSETFROM:+0100
TZOFFSETTO:+0200
TZNAME:CEST
DTSTART:20260329T010000
END:DAYLIGHT
BEGIN:STANDARD
TZOFFSETFROM:+0200
TZOFFSETTO:+0100
TZNAME:CET
DTSTART:20261025T010000
END:STANDARD
END:VTIMEZONE
BEGIN:VEVENT
DTSTART;TZID=Europe/Paris:20250717T210000
DTEND;TZID=Europe/Paris:20250717T220000
DTSTAMP:20260423T095108
CREATED:20250605T180726Z
LAST-MODIFIED:20250713T090736Z
UID:272534-1752786000-1752789600@vendredix.fr
SUMMARY:IVRESSE dans Mémoires Électroniques
DESCRIPTION:Au crépuscule de sa vie\, Ivresse\, star à la carrière folle\, refuse catégoriquement d’écrire ses mémoires. \nIl n’y a que les stars mortes qui écrivent leurs mémoires. La croit-on déjà démodée ? Ecrire ses mémoires ? Et puis quoi encore ! Lui coller une date de péremption ? Il lui reste tant de choses à vivre\, tant de choses à raconter ! \nIvresse est aux nuits parisiennes ce que les travesties sont à Almodovar. Comme une pellicule projetée sur une toile\, ses souvenirs s’articulent dans un cabaret haut en couleurs\, drôle et attachant à la fois. Son cabaret est fait de chansons relevées d’une touche d’électro et habillées d’installations vidéo. Elle vous enivrera tellement que c’est votre mémoire qu’elle va marquer. \nLieu: La Nouvelle SeineDates: 3\, 10\, 17 Juillet 2025 \n			\n				RESERVER\n			\n			\n				\n				\n				\n				\n				\n				\n				\n				\n				\n				\n			\n				Ivresse
URL:https://vendredix.fr/event/ivresse-dans-memoires-electroniques/
ATTACH;FMTTYPE=image/jpeg:https://vendredix.fr/wp-content/uploads/2025/06/memoires-electroniques.jpg
END:VEVENT
END:VCALENDAR