BEGIN:VCALENDAR
VERSION:2.0
PRODID:-//VendrediX - ECPv6.15.20//NONSGML v1.0//EN
CALSCALE:GREGORIAN
METHOD:PUBLISH
X-WR-CALNAME:VendrediX
X-ORIGINAL-URL:https://vendredix.fr
X-WR-CALDESC:Évènements pour VendrediX
REFRESH-INTERVAL;VALUE=DURATION:PT1H
X-Robots-Tag:noindex
X-PUBLISHED-TTL:PT1H
BEGIN:VTIMEZONE
TZID:Europe/Paris
BEGIN:DAYLIGHT
TZOFFSETFROM:+0100
TZOFFSETTO:+0200
TZNAME:CEST
DTSTART:20240331T010000
END:DAYLIGHT
BEGIN:STANDARD
TZOFFSETFROM:+0200
TZOFFSETTO:+0100
TZNAME:CET
DTSTART:20241027T010000
END:STANDARD
BEGIN:DAYLIGHT
TZOFFSETFROM:+0100
TZOFFSETTO:+0200
TZNAME:CEST
DTSTART:20250330T010000
END:DAYLIGHT
BEGIN:STANDARD
TZOFFSETFROM:+0200
TZOFFSETTO:+0100
TZNAME:CET
DTSTART:20251026T010000
END:STANDARD
BEGIN:DAYLIGHT
TZOFFSETFROM:+0100
TZOFFSETTO:+0200
TZNAME:CEST
DTSTART:20260329T010000
END:DAYLIGHT
BEGIN:STANDARD
TZOFFSETFROM:+0200
TZOFFSETTO:+0100
TZNAME:CET
DTSTART:20261025T010000
END:STANDARD
END:VTIMEZONE
BEGIN:VEVENT
DTSTART;TZID=Europe/Paris:20251206T190000
DTEND;TZID=Europe/Paris:20251207T010000
DTSTAMP:20260423T053357
CREATED:20251130T171126Z
LAST-MODIFIED:20251130T172213Z
UID:282601-1765047600-1765069200@vendredix.fr
SUMMARY:Le Laboratoire
DESCRIPTION:Le Laboratoire – Scène Ouverte Queer : Une Soirée d’Expression et de Diversité à La Maz \nSamedi 6 décembre\, à partir de 19h\, La Maz ouvre ses portes pour une soirée exceptionnelle : Le Laboratoire – Scène Ouverte Queer. Cet événement\, présenté par Ivresse\, promet de célébrer la diversité artistique et l’inclusivité à travers des performances variées et captivantes. L’entrée est gratuite\, offrant à tous l’opportunité de découvrir des talents uniques dans une ambiance chaleureuse et bienveillante. \n			\n			\n				\n				\n				\n				\n				\n				\n				\n				\n				\n				Parmi les artistes annoncés\, on retrouve des noms aussi éclectiques qu’Alla Marge\, Polydoris\, Boris Viande\, Andrea de Miguel\, Christine Monot\, La Castafiore\, La Mama Drama\, Vain Fatidique\, Alex Lebaz\, Grand Gaillard\, Collages\, Oojala\, Twister Act\, Kaligari\, Ivresse\, La Précieuse\, Daniel S\, Nailed.it94\, et Roben. Chaque artiste apportera sa touche personnelle\, promettant une soirée riche en émotions et en surprises. \n			\n			\n				\n				\n				\n				\n				\n				\n				\n				\n				\n				Informations Pratiques : \n\nDate : Samedi 6 décembre\nHoraire : 19h à 01h\nLieu : La Maz\, 9 Rue de Turbigo\, 75001 Paris\nEntrée : Gratuite\n\n\nNe manquez pas cette soirée exceptionnelle où l’art\, la diversité et la bienveillance se rencontrent. Venez nombreux pour soutenir les artistes et vivre une expérience unique en leur compagnie. Le Laboratoire – Scène Ouverte Queer vous attend pour une nuit inoubliable !
URL:https://vendredix.fr/event/le-laboratoire/
ATTACH;FMTTYPE=image/jpeg:https://vendredix.fr/wp-content/uploads/2025/11/ivressesceneouverte.jpg
END:VEVENT
END:VCALENDAR