BEGIN:VCALENDAR
VERSION:2.0
PRODID:-//VendrediX - ECPv6.15.20//NONSGML v1.0//EN
CALSCALE:GREGORIAN
METHOD:PUBLISH
X-WR-CALNAME:VendrediX
X-ORIGINAL-URL:https://vendredix.fr
X-WR-CALDESC:Évènements pour VendrediX
REFRESH-INTERVAL;VALUE=DURATION:PT1H
X-Robots-Tag:noindex
X-PUBLISHED-TTL:PT1H
BEGIN:VTIMEZONE
TZID:Europe/Paris
BEGIN:DAYLIGHT
TZOFFSETFROM:+0100
TZOFFSETTO:+0200
TZNAME:CEST
DTSTART:20240331T010000
END:DAYLIGHT
BEGIN:STANDARD
TZOFFSETFROM:+0200
TZOFFSETTO:+0100
TZNAME:CET
DTSTART:20241027T010000
END:STANDARD
BEGIN:DAYLIGHT
TZOFFSETFROM:+0100
TZOFFSETTO:+0200
TZNAME:CEST
DTSTART:20250330T010000
END:DAYLIGHT
BEGIN:STANDARD
TZOFFSETFROM:+0200
TZOFFSETTO:+0100
TZNAME:CET
DTSTART:20251026T010000
END:STANDARD
BEGIN:DAYLIGHT
TZOFFSETFROM:+0100
TZOFFSETTO:+0200
TZNAME:CEST
DTSTART:20260329T010000
END:DAYLIGHT
BEGIN:STANDARD
TZOFFSETFROM:+0200
TZOFFSETTO:+0100
TZNAME:CET
DTSTART:20261025T010000
END:STANDARD
BEGIN:DAYLIGHT
TZOFFSETFROM:+0100
TZOFFSETTO:+0200
TZNAME:CEST
DTSTART:20270328T010000
END:DAYLIGHT
BEGIN:STANDARD
TZOFFSETFROM:+0200
TZOFFSETTO:+0100
TZNAME:CET
DTSTART:20271031T010000
END:STANDARD
END:VTIMEZONE
BEGIN:VEVENT
DTSTART;TZID=Europe/Paris:20251231T230000
DTEND;TZID=Europe/Paris:20260101T120000
DTSTAMP:20260423T014821
CREATED:20250926T100101Z
LAST-MODIFIED:20251130T100422Z
UID:278807-1767222000-1767268800@vendredix.fr
SUMMARY:DI.X 31 - Nouvel An 2026
DESCRIPTION:🔥 NOUVEL AN UNDERGROUND🔥13H DE FÊTE SAUVAGE EN PLEIN PARIS: MINUIT.MIDI | PARTY+AFTER\n			\n				\n				\n				\n				\n				Prépare-toi à vivre une nuit exceptionnelle pour célébrer 2026 comme jamais. Un lieu libre et brut\, au cœur de Paris\, t’attend pour une expérience hors du temps. \n🎧 6 DJs d’exception prendront les commandes pour t’emmener dans un voyage sonore électrique\, chaud et sans limites. \n🕒 13 heures de fête non-stop\, de l’aube au crépuscule\, pour danser jusqu’à l’épuisement. \nLaisse-toi porter par l’énergie underground\, la chaleur des corps et la magie de l’instant. On te dévoile très vite le lieu\, la line-up et toutes les surprises… \n			\n				PREVENTES\n			\n			\n				\n				\n				\n				\n			\n				\n				\n				\n				\n				\n				\n			\n				\n				\n				\n				\n				\n				\n				\n				\n				\n				\n				\n					\n					\n				\n				\n			\n				\n				\n				\n				\n				LINEUP\nVoltaire\nHugo Prime\nLouis the 4th\nElectric Rescue\nNymed\nBen Manson\n  \n			\n				PREVENTES\n			\n			\n				\n				\n				\n				\n				\n			\n				\n				\n				\n				\n			\n				\n				\n				\n				\n				\n				\n				\n				\n				\n				\n				👉 Reste connecté·e\, l’aventure commence bientôt. \n#NouvelAnUnderground#13hDeFête#MinuitMidi#LibreEtSauvage\n			\n			\n				\n				\n				\n				\n			\n				\n				\n			\n				\n				\n				\n				\n				\n				\n				\n				\n				\n				\n				\n				\n				\n				\n				\n				\n				\n				\n				\n				\n					\n                 DI.X / FVTVR\, Le Club Underground de ParisFVTVR : Une Cathédrale du Son ÉlectroImmersion dans un univers brut et minimaliste Le club électro FVTVR s'annonce comme une nouvelle référence dans le paysage nocturne. Avec son design brut et minimaliste\, pensé comme une véritable... \nPlus d'Info...    DI.X / Une bulle de liberté TechnoLes lumières du FVTVR me plongent dans une ambiance électrique dès que je franchis le seuil. Les basses vibrantes du techno grondent dans mes entrailles\, créant une pulsation qui me pousse à avancer. L'odeur de la sueur se mêle à du parfum\,... \nPlus d'Info...    DI.X / Lumières & Son Techno UndergroundLoin des fioritures et des effets spéciaux. DI.X promet un retour aux fondamentaux de la techno. Les beats répétitifs et les basses profondes vont t'emporter dans un voyage rythmique sans fin. Les lumières\, simples mais efficaces\, créeront... \nPlus d'Info...    DI.X / DressCode X/Cuir\, harnais\, latex\, sport\, en slip\, en Jockstrap ou totalement nu\, viens comme tu as envie pour savourer\, dans une chaleur animale\, le son techno de DI.XÀ l'aube\, alors que les lumières s'éteignent\, tu sors de DI.X\, une nuit hors du temps\,... \nPlus d'Info...    DI.X / PhotosFVTVR est un lieu où les frontières s'effacent\, où l'on peut être qui l'on veut. Un havre de paix pour les âmes en quête de sensations fortes\, un terrain de jeu pour les corps et les esprits. \nPlus d'Info...    DI.X est déjà dans le FVTVRPrêt à plonger dans l'inconnu ? Une soirée hors du commun t'attend. Un espace où le temps s'arrête et où les corps se libèrent au rythme d'une musique envoûtante. Une expérience immersive qui te transportera dans le futur\, dès maintenant.... \nPlus d'Info...    DI.X / 10 Actes pour Réécrire le TempsPrologue 23h00 . Le club FVTVR ouvre ses portes pour une nouvelle expérience de soirée : DI X. heures pour transcender le temps\, pour métamorphoser les heures en un rituel charnel\, artistique et collectif.Ce n’est pas qu’une simple soirée.... \nPlus d'Info...    DI.X / Nouvelle référence Techno à ParisDI.X est une soirée référence sur la scène techno Queer parisienne\, avec les meilleurs DJs Parisiens et européenne du moment.DI.X : La Nouvelle Référence Techno à Paris avec 8 heures de musiques! DI.X débarque à Paris et promet de... \nPlus d'Info...    DI.X / DJs Techno aux platinesPlonge au cœur de la nuit et laisse toi emporter par les sons envoûtants des meilleurs DJs techno du moment. DI.X t'invite à un voyage sonore intense\, où chaque note te transportera vers de nouveaux sommets. Une expérience musicale unique à... \nPlus d'Info...    DI.X / La fumée se dissipe\, son corps sensuel réapparait / HOTJe rentre enfin dans DI.X. Le couloir est une faille dans l'obscurité. Une fumée épaisse\, lourde de promesses\, enveloppe mes sens. Je distingue à peine les contours des murs\, comme si j'avançais dans un rêve. Au bout de ce tunnel obscur\, une... \nPlus d'Info...      \n                \n             \n				\n			\n				\n				\n				\n				\n				\n				\n				\n					\n                 DI.X / 10 Actes pour Réécrire le TempsPrologue 23h00 . Le club FVTVR ouvre ses portes pour une nouvelle expérience de soirée : DI X. heures pour transcender le temps\, pour métamorphoser les heures en un rituel charnel\, artistique et collectif.Ce n’est pas qu’une simple soirée.... \nPlus d'Info...    DI.X est déjà dans le FVTVRPrêt à plonger dans l'inconnu ? Une soirée hors du commun t'attend. Un espace où le temps s'arrête et où les corps se libèrent au rythme d'une musique envoûtante. Une expérience immersive qui te transportera dans le futur\, dès maintenant.... \nPlus d'Info...    DI.X / DJs Techno aux platinesPlonge au cœur de la nuit et laisse toi emporter par les sons envoûtants des meilleurs DJs techno du moment. DI.X t'invite à un voyage sonore intense\, où chaque note te transportera vers de nouveaux sommets. Une expérience musicale unique à... \nPlus d'Info...    DI.X / FVTVR\, Le Club Underground de ParisFVTVR : Une Cathédrale du Son ÉlectroImmersion dans un univers brut et minimaliste Le club électro FVTVR s'annonce comme une nouvelle référence dans le paysage nocturne. Avec son design brut et minimaliste\, pensé comme une véritable... \nPlus d'Info...    DI.X / La fumée se dissipe\, son corps sensuel réapparait / HOTJe rentre enfin dans DI.X. Le couloir est une faille dans l'obscurité. Une fumée épaisse\, lourde de promesses\, enveloppe mes sens. Je distingue à peine les contours des murs\, comme si j'avançais dans un rêve. Au bout de ce tunnel obscur\, une... \nPlus d'Info...    DI.X / DressCode X/Cuir\, harnais\, latex\, sport\, en slip\, en Jockstrap ou totalement nu\, viens comme tu as envie pour savourer\, dans une chaleur animale\, le son techno de DI.XÀ l'aube\, alors que les lumières s'éteignent\, tu sors de DI.X\, une nuit hors du temps\,... \nPlus d'Info...    DI.X / Une bulle de liberté TechnoLes lumières du FVTVR me plongent dans une ambiance électrique dès que je franchis le seuil. Les basses vibrantes du techno grondent dans mes entrailles\, créant une pulsation qui me pousse à avancer. L'odeur de la sueur se mêle à du parfum\,... \nPlus d'Info...    DI.X / PhotosFVTVR est un lieu où les frontières s'effacent\, où l'on peut être qui l'on veut. Un havre de paix pour les âmes en quête de sensations fortes\, un terrain de jeu pour les corps et les esprits. \nPlus d'Info...    DI.X / Nouvelle référence Techno à ParisDI.X est une soirée référence sur la scène techno Queer parisienne\, avec les meilleurs DJs Parisiens et européenne du moment.DI.X : La Nouvelle Référence Techno à Paris avec 8 heures de musiques! DI.X débarque à Paris et promet de... \nPlus d'Info...    DI.X / Lumières & Son Techno UndergroundLoin des fioritures et des effets spéciaux. DI.X promet un retour aux fondamentaux de la techno. Les beats répétitifs et les basses profondes vont t'emporter dans un voyage rythmique sans fin. Les lumières\, simples mais efficaces\, créeront... \nPlus d'Info...
URL:https://vendredix.fr/event/nouvel-an-2026/
LOCATION:FVTVR\, 32 Quai d'Austerlitz\, 75013 Paris\, Paris\, 75013\, France
CATEGORIES:DI.X
ATTACH;FMTTYPE=image/jpeg:https://vendredix.fr/wp-content/uploads/2025/09/DIX_31DEC_1X1.jpg
END:VEVENT
END:VCALENDAR