BEGIN:VCALENDAR
VERSION:2.0
PRODID:-//VendrediX - ECPv6.15.20//NONSGML v1.0//EN
CALSCALE:GREGORIAN
METHOD:PUBLISH
X-WR-CALNAME:VendrediX
X-ORIGINAL-URL:https://vendredix.fr
X-WR-CALDESC:Évènements pour VendrediX
REFRESH-INTERVAL;VALUE=DURATION:PT1H
X-Robots-Tag:noindex
X-PUBLISHED-TTL:PT1H
BEGIN:VTIMEZONE
TZID:Europe/Paris
BEGIN:DAYLIGHT
TZOFFSETFROM:+0100
TZOFFSETTO:+0200
TZNAME:CEST
DTSTART:20240331T010000
END:DAYLIGHT
BEGIN:STANDARD
TZOFFSETFROM:+0200
TZOFFSETTO:+0100
TZNAME:CET
DTSTART:20241027T010000
END:STANDARD
BEGIN:DAYLIGHT
TZOFFSETFROM:+0100
TZOFFSETTO:+0200
TZNAME:CEST
DTSTART:20250330T010000
END:DAYLIGHT
BEGIN:STANDARD
TZOFFSETFROM:+0200
TZOFFSETTO:+0100
TZNAME:CET
DTSTART:20251026T010000
END:STANDARD
BEGIN:DAYLIGHT
TZOFFSETFROM:+0100
TZOFFSETTO:+0200
TZNAME:CEST
DTSTART:20260329T010000
END:DAYLIGHT
BEGIN:STANDARD
TZOFFSETFROM:+0200
TZOFFSETTO:+0100
TZNAME:CET
DTSTART:20261025T010000
END:STANDARD
END:VTIMEZONE
BEGIN:VEVENT
DTSTART;TZID=Europe/Paris:20250712T080000
DTEND;TZID=Europe/Paris:20250712T110000
DTSTAMP:20260423T094053
CREATED:20250711T094933Z
LAST-MODIFIED:20250711T135731Z
UID:273880-1752307200-1752318000@vendredix.fr
SUMMARY:Baignade en Seine
DESCRIPTION:Après une nuit endiablée\, de l’apéro géant VendrediX Sur Seine jusqu’à DI.X au FVTVR\, le moment est venu de plonger. Laisse-toi tenter par une baignade rafraîchissante dans la Seine. Imagine : l’eau sur ta peau\, la vue imprenable sur les ponts illuminés de Paris\, et le soleil qui se lève doucement pour dorer ton corps. N’oublie pas ton maillot et ta serviette\, on t’attend pour un moment de pur plaisir\, là\, juste au bord de l’eau. Viens te rafraîchir et bronzer\, avec le spectacle magique de Paris en toile de fond. \n			\n			\n				\n				\n				\n				\n				\n				\n				\n				\n				\n				\n			\n			\n				\n				\n				\n				\n			\n				\n				\n				\n				\n				\n				\n				INFOS BAIGNADE
URL:https://vendredix.fr/event/plongeons-dans-la-seine/
LOCATION:Bras Marie\, Site de baignade du Bras Marie\, Paris\, 75004
ATTACH;FMTTYPE=image/jpeg:https://vendredix.fr/wp-content/uploads/2025/07/brasmarie4.jpg
END:VEVENT
END:VCALENDAR