BEGIN:VCALENDAR
VERSION:2.0
PRODID:-//VendrediX - ECPv6.15.20//NONSGML v1.0//EN
CALSCALE:GREGORIAN
METHOD:PUBLISH
X-WR-CALNAME:VendrediX
X-ORIGINAL-URL:https://vendredix.fr
X-WR-CALDESC:Évènements pour VendrediX
REFRESH-INTERVAL;VALUE=DURATION:PT1H
X-Robots-Tag:noindex
X-PUBLISHED-TTL:PT1H
BEGIN:VTIMEZONE
TZID:Europe/Paris
BEGIN:DAYLIGHT
TZOFFSETFROM:+0100
TZOFFSETTO:+0200
TZNAME:CEST
DTSTART:20240331T010000
END:DAYLIGHT
BEGIN:STANDARD
TZOFFSETFROM:+0200
TZOFFSETTO:+0100
TZNAME:CET
DTSTART:20241027T010000
END:STANDARD
BEGIN:DAYLIGHT
TZOFFSETFROM:+0100
TZOFFSETTO:+0200
TZNAME:CEST
DTSTART:20250330T010000
END:DAYLIGHT
BEGIN:STANDARD
TZOFFSETFROM:+0200
TZOFFSETTO:+0100
TZNAME:CET
DTSTART:20251026T010000
END:STANDARD
BEGIN:DAYLIGHT
TZOFFSETFROM:+0100
TZOFFSETTO:+0200
TZNAME:CEST
DTSTART:20260329T010000
END:DAYLIGHT
BEGIN:STANDARD
TZOFFSETFROM:+0200
TZOFFSETTO:+0100
TZNAME:CET
DTSTART:20261025T010000
END:STANDARD
END:VTIMEZONE
BEGIN:VEVENT
DTSTART;TZID=Europe/Paris:20251128T190000
DTEND;TZID=Europe/Paris:20251129T020000
DTSTAMP:20260423T034217
CREATED:20251122T134747Z
LAST-MODIFIED:20251122T135132Z
UID:281109-1764356400-1764381600@vendredix.fr
SUMMARY:VendrediX République
DESCRIPTION:VendrediX République t’attend\, mon gars : viens cliquer des verres entre potes sur notre terrasse XXL\, et enchaîner sur des sons pop qui vont te faire oublier ta semaine de merde. \nOn danse\, on s’éclate\, on drague… Bref\, on lance ton week-end comme il se doit. \n🎟️ Gratos à l’entrée\, mais réserve ton spot sur Shotgun (parce qu’on kiffe les gens organisés). \n🧥 Vestiaire aussi gratis\, mais si t’as un peu de thune à lâcher pour la bonne cause\, on dit pas non. Alors\, tu signes où ? 😉 \n			\n				PLUS D'INFO
URL:https://vendredix.fr/event/vendredix-republique-3/
LOCATION:Fluctuat Nec Mergitur\, 18 Place de la République\, Paris\, 75010\, France
CATEGORIES:VendrediX
ATTACH;FMTTYPE=image/jpeg:https://vendredix.fr/wp-content/uploads/2025/09/vx_repu_1x1-scaled-e1758904125646.jpg
END:VEVENT
END:VCALENDAR