BEGIN:VCALENDAR
VERSION:2.0
PRODID:-//VendrediX - ECPv6.15.20//NONSGML v1.0//EN
CALSCALE:GREGORIAN
METHOD:PUBLISH
X-WR-CALNAME:VendrediX
X-ORIGINAL-URL:https://vendredix.fr
X-WR-CALDESC:Évènements pour VendrediX
REFRESH-INTERVAL;VALUE=DURATION:PT1H
X-Robots-Tag:noindex
X-PUBLISHED-TTL:PT1H
BEGIN:VTIMEZONE
TZID:Europe/Paris
BEGIN:DAYLIGHT
TZOFFSETFROM:+0100
TZOFFSETTO:+0200
TZNAME:CEST
DTSTART:20250330T010000
END:DAYLIGHT
BEGIN:STANDARD
TZOFFSETFROM:+0200
TZOFFSETTO:+0100
TZNAME:CET
DTSTART:20251026T010000
END:STANDARD
BEGIN:DAYLIGHT
TZOFFSETFROM:+0100
TZOFFSETTO:+0200
TZNAME:CEST
DTSTART:20260329T010000
END:DAYLIGHT
BEGIN:STANDARD
TZOFFSETFROM:+0200
TZOFFSETTO:+0100
TZNAME:CET
DTSTART:20261025T010000
END:STANDARD
BEGIN:DAYLIGHT
TZOFFSETFROM:+0100
TZOFFSETTO:+0200
TZNAME:CEST
DTSTART:20270328T010000
END:DAYLIGHT
BEGIN:STANDARD
TZOFFSETFROM:+0200
TZOFFSETTO:+0100
TZNAME:CET
DTSTART:20271031T010000
END:STANDARD
END:VTIMEZONE
BEGIN:VEVENT
DTSTART;TZID=Europe/Paris:20260424T190000
DTEND;TZID=Europe/Paris:20260425T020000
DTSTAMP:20260422T112036
CREATED:20250426T221602Z
LAST-MODIFIED:20260418T074959Z
UID:269569-1777057200-1777082400@vendredix.fr
SUMMARY:VendrediX Sur Seine
DESCRIPTION:VendrediX Sur Seine est de retour\, mes chéris ! 🔥 \nEnvie de décompresser après le boulot ? De lancer ta soirée comme un·e pro ? Ou juste de kiffer Paris comme il faut ? VendrediX Sur Seine est LE spot du vendredi qu’il te faut. La Seine devient notre dancefloor\, et toi\, tu danses ? \n📍 On s’installe au Scilicet\, face à la Conciergerie\, en contrebas de la place du Châtelet. Un bar avec une vue à couper le souffle sur les plus beaux monuments de Paris. Alors\, tu viens ?” 😏 \n			\n			\n				\n				\n				\n				\n				\n				\n				\n				\n				\n				🕕 De 19h à 2h du matin🍹 Apéro\, Afterwork ou Before de soirée🎶 DJ set open air📍 Scilicet\, ton spot fétiche💸 Entrée gratuite – Prends ton ticket gratuit \n			\n				INFOS
URL:https://vendredix.fr/event/vendredix-sur-seine-16/
LOCATION:Scilicet\, 134 Voie Georges Pompidou\, 75001 Paris\, Paris\, France
CATEGORIES:VendrediX
ATTACH;FMTTYPE=image/jpeg:https://vendredix.fr/wp-content/uploads/2026/04/vx_sur_seine_4x5.jpg
END:VEVENT
END:VCALENDAR