BEGIN:VCALENDAR
VERSION:2.0
PRODID:-//VendrediX - ECPv6.15.20//NONSGML v1.0//EN
CALSCALE:GREGORIAN
METHOD:PUBLISH
X-WR-CALNAME:VendrediX
X-ORIGINAL-URL:https://vendredix.fr
X-WR-CALDESC:Évènements pour VendrediX
REFRESH-INTERVAL;VALUE=DURATION:PT1H
X-Robots-Tag:noindex
X-PUBLISHED-TTL:PT1H
BEGIN:VTIMEZONE
TZID:Europe/Paris
BEGIN:DAYLIGHT
TZOFFSETFROM:+0100
TZOFFSETTO:+0200
TZNAME:CEST
DTSTART:20240331T010000
END:DAYLIGHT
BEGIN:STANDARD
TZOFFSETFROM:+0200
TZOFFSETTO:+0100
TZNAME:CET
DTSTART:20241027T010000
END:STANDARD
BEGIN:DAYLIGHT
TZOFFSETFROM:+0100
TZOFFSETTO:+0200
TZNAME:CEST
DTSTART:20250330T010000
END:DAYLIGHT
BEGIN:STANDARD
TZOFFSETFROM:+0200
TZOFFSETTO:+0100
TZNAME:CET
DTSTART:20251026T010000
END:STANDARD
BEGIN:DAYLIGHT
TZOFFSETFROM:+0100
TZOFFSETTO:+0200
TZNAME:CEST
DTSTART:20260329T010000
END:DAYLIGHT
BEGIN:STANDARD
TZOFFSETFROM:+0200
TZOFFSETTO:+0100
TZNAME:CET
DTSTART:20261025T010000
END:STANDARD
END:VTIMEZONE
BEGIN:VEVENT
DTSTART;VALUE=DATE:20250926
DTEND;VALUE=DATE:20250927
DTSTAMP:20260423T053839
CREATED:20250926T123453Z
LAST-MODIFIED:20250926T124450Z
UID:278824-1758844800-1758931199@vendredix.fr
SUMMARY:VendrediX Sur Seine (C'est fini\, retour en 2026)
DESCRIPTION:La saison 2025\, c’est fini ! Pas de VendrediX Sur Seine ce soir\, mais on se retrouve en 2026 pour encore plus de folie. Cette année a été incroyable\, avec une énergie de ouf et des gens venus du monde entier. \nMaintenant\, on passe à autre chose… mais ne t’inquiète pas\, de nouveaux événements dans de nouveaux lieux arrivent très vite. À très bientôt pour la suite ! 🎉 \n			\n				SAISON 2026
URL:https://vendredix.fr/event/vendredix-sur-seine-17/
ATTACH;FMTTYPE=image/jpeg:https://vendredix.fr/wp-content/uploads/2025/04/vendredixsurseine_16_9_1.jpg
END:VEVENT
END:VCALENDAR