BEGIN:VCALENDAR
VERSION:2.0
PRODID:-//VendrediX - ECPv6.15.20//NONSGML v1.0//EN
CALSCALE:GREGORIAN
METHOD:PUBLISH
X-WR-CALNAME:VendrediX
X-ORIGINAL-URL:https://vendredix.fr
X-WR-CALDESC:Évènements pour VendrediX
REFRESH-INTERVAL;VALUE=DURATION:PT1H
X-Robots-Tag:noindex
X-PUBLISHED-TTL:PT1H
BEGIN:VTIMEZONE
TZID:Europe/Paris
BEGIN:DAYLIGHT
TZOFFSETFROM:+0100
TZOFFSETTO:+0200
TZNAME:CEST
DTSTART:20250330T010000
END:DAYLIGHT
BEGIN:STANDARD
TZOFFSETFROM:+0200
TZOFFSETTO:+0100
TZNAME:CET
DTSTART:20251026T010000
END:STANDARD
BEGIN:DAYLIGHT
TZOFFSETFROM:+0100
TZOFFSETTO:+0200
TZNAME:CEST
DTSTART:20260329T010000
END:DAYLIGHT
BEGIN:STANDARD
TZOFFSETFROM:+0200
TZOFFSETTO:+0100
TZNAME:CET
DTSTART:20261025T010000
END:STANDARD
BEGIN:DAYLIGHT
TZOFFSETFROM:+0100
TZOFFSETTO:+0200
TZNAME:CEST
DTSTART:20270328T010000
END:DAYLIGHT
BEGIN:STANDARD
TZOFFSETFROM:+0200
TZOFFSETTO:+0100
TZNAME:CET
DTSTART:20271031T010000
END:STANDARD
END:VTIMEZONE
BEGIN:VEVENT
DTSTART;TZID=Europe/Paris:20260515T190000
DTEND;TZID=Europe/Paris:20260516T060000
DTSTAMP:20260422T112136
CREATED:20250818T152830Z
LAST-MODIFIED:20260411T121106Z
UID:275472-1778871600-1778911200@vendredix.fr
SUMMARY:VendrediXXL
DESCRIPTION:VENDREDIXXL\, c’est pas juste une soirée\, c’est LE festival LGBTQIA+ et artistique qui déchire tous les mois à La Bellevilloise ! 🌈✨ \nUn vendredi par mois\, on s’installe dans le temple de la nuit parisienne pour un mélange explosif de musique\, d’art et de bonne humeur. Ici\, tout le monde est le·a bienvenu·e\, peu importe ton âge\, ton genre ou tes préférences. On est queer\, on est fier·e·s\, et on fait la fête ensemble ! \nAu programme ? \nDe l’électro qui fait vibrer les murs.\nDe la pop qui donne envie de danser jusqu’au bout de la nuit.\nUn cabaret déjanté\, des concerts d’artistes queer qui envoient du lourd.\nDes performances de danse\, des projections et des installations visuelles qui te scotchent. \nEt l’ambiance ? XXL\, bien sûr !\nOn squatte 4 étages avec des espaces à thème : la Electric Cave pour les beats qui cognent\, le Bitchy Floor pour les fans de drama (et de danse)\, le Cabaret d’Ivresse pour les numéros qui claquaient\, et le Concert Queer pour les voix qui te donnent des frissons. Et parce qu’on aime l’air frais\, on a même des espaces en extérieur pour souffler entre deux shots… ou deux slows. \nVENDREDIXXL\, c’est l’expérience ultime : fête\, musique\, art et une énergie ultra-inclusive. Alors\, tu viens quand ? 😏🔥\n			\n				INFOS\n			\n				\n				\n				\n				\n				\n\nENTREE GRATUITE A L’OUVERTUREBILLETS SUR PLACEAvant 21h : 15€Après 21h : 25€
URL:https://vendredix.fr/event/vendredixxl-14/
LOCATION:Bellevilloise\, 19-21 Rue Boyer\, 75020 Paris\, Paris\, France
CATEGORIES:VendrediXXL
ATTACH;FMTTYPE=image/jpeg:https://vendredix.fr/wp-content/uploads/2025/08/vxxl_1x1_29MAI.jpg
END:VEVENT
END:VCALENDAR