BEGIN:VCALENDAR
VERSION:2.0
PRODID:-//VendrediX - ECPv6.15.20//NONSGML v1.0//EN
CALSCALE:GREGORIAN
METHOD:PUBLISH
X-WR-CALNAME:VendrediX
X-ORIGINAL-URL:https://vendredix.fr
X-WR-CALDESC:Évènements pour VendrediX
REFRESH-INTERVAL;VALUE=DURATION:PT1H
X-Robots-Tag:noindex
X-PUBLISHED-TTL:PT1H
BEGIN:VTIMEZONE
TZID:Europe/Paris
BEGIN:DAYLIGHT
TZOFFSETFROM:+0100
TZOFFSETTO:+0200
TZNAME:CEST
DTSTART:20240331T010000
END:DAYLIGHT
BEGIN:STANDARD
TZOFFSETFROM:+0200
TZOFFSETTO:+0100
TZNAME:CET
DTSTART:20241027T010000
END:STANDARD
BEGIN:DAYLIGHT
TZOFFSETFROM:+0100
TZOFFSETTO:+0200
TZNAME:CEST
DTSTART:20250330T010000
END:DAYLIGHT
BEGIN:STANDARD
TZOFFSETFROM:+0200
TZOFFSETTO:+0100
TZNAME:CET
DTSTART:20251026T010000
END:STANDARD
BEGIN:DAYLIGHT
TZOFFSETFROM:+0100
TZOFFSETTO:+0200
TZNAME:CEST
DTSTART:20260329T010000
END:DAYLIGHT
BEGIN:STANDARD
TZOFFSETFROM:+0200
TZOFFSETTO:+0100
TZNAME:CET
DTSTART:20261025T010000
END:STANDARD
END:VTIMEZONE
BEGIN:VEVENT
DTSTART;TZID=Europe/Paris:20250613T190000
DTEND;TZID=Europe/Paris:20250614T060000
DTSTAMP:20260423T113900
CREATED:20250426T181016Z
LAST-MODIFIED:20250616T162328Z
UID:269484-1749841200-1749880800@vendredix.fr
SUMMARY:VendrediXXL Bill is Back
DESCRIPTION:VENDREDIXXL est plus qu’une soirée\, c’est un Festival Queer \nAFTERWORKCABARET D’IVRESSEATELIER PEINTURECONCERT QUEERPERFORMERS \nELECTROROOMPOPROOMBESTIALROOM \n			\n				PLUS D'INFOS\n			\n				\n				\n				\n				\n				\n\nENTREE GRATUITE A L’OUVERTUREBILLETS SUR PLACEAvant 21h : 10€Après 21h : 25€ \n\n\n			\n				PREVENTES\n			\n				\n				\n				\n				\n				Plus de 30 artistes: Jean-Charles Nu | Kazybris | NORDVÏCK | Arno Skrilh | Ben Manson | Rody V | Bomo | Dgraph | IVRESSE | DANIEL S | KYSSY BANG BANG | TERRIBLE ENFANT | CHRISTOPHE APATIE | VINCENT GESTERMANN | RAWDON CRAWLEY | Michelle et les Garçons | Freddy Diallo | Dat Drims | OUTSIDERS | LAISSEZ NOUS DANSER | JAYBEE | LORENTZ | Tom la Crapule
URL:https://vendredix.fr/event/vendredixxl-2/
LOCATION:Bellevilloise\, 19-21 Rue Boyer\, 75020 Paris\, Paris\, France
CATEGORIES:VendrediXXL
ATTACH;FMTTYPE=image/jpeg:https://vendredix.fr/wp-content/uploads/2025/04/XXL13JUIN_1_1.jpg
END:VEVENT
END:VCALENDAR