BEGIN:VCALENDAR
VERSION:2.0
PRODID:-//VendrediX - ECPv6.15.20//NONSGML v1.0//EN
CALSCALE:GREGORIAN
METHOD:PUBLISH
X-WR-CALNAME:VendrediX
X-ORIGINAL-URL:https://vendredix.fr
X-WR-CALDESC:Évènements pour VendrediX
REFRESH-INTERVAL;VALUE=DURATION:PT1H
X-Robots-Tag:noindex
X-PUBLISHED-TTL:PT1H
BEGIN:VTIMEZONE
TZID:Europe/Paris
BEGIN:DAYLIGHT
TZOFFSETFROM:+0100
TZOFFSETTO:+0200
TZNAME:CEST
DTSTART:20240331T010000
END:DAYLIGHT
BEGIN:STANDARD
TZOFFSETFROM:+0200
TZOFFSETTO:+0100
TZNAME:CET
DTSTART:20241027T010000
END:STANDARD
BEGIN:DAYLIGHT
TZOFFSETFROM:+0100
TZOFFSETTO:+0200
TZNAME:CEST
DTSTART:20250330T010000
END:DAYLIGHT
BEGIN:STANDARD
TZOFFSETFROM:+0200
TZOFFSETTO:+0100
TZNAME:CET
DTSTART:20251026T010000
END:STANDARD
BEGIN:DAYLIGHT
TZOFFSETFROM:+0100
TZOFFSETTO:+0200
TZNAME:CEST
DTSTART:20260329T010000
END:DAYLIGHT
BEGIN:STANDARD
TZOFFSETFROM:+0200
TZOFFSETTO:+0100
TZNAME:CET
DTSTART:20261025T010000
END:STANDARD
END:VTIMEZONE
BEGIN:VEVENT
DTSTART;TZID=Europe/Paris:20250627T190000
DTEND;TZID=Europe/Paris:20250628T060000
DTSTAMP:20260423T094051
CREATED:20250427T071824Z
LAST-MODIFIED:20250624T140225Z
UID:269607-1751050800-1751090400@vendredix.fr
SUMMARY:VendrediXXL & Les Gaillards : Pride en Seine
DESCRIPTION:5 espaces – 5 ambiances : \nLA TERRASSE : boire et danser sous les étoiles de Paris\, en bord de Seine \nLE CABARET : Vianney & Ivresse chantent les classiques de la chanson Française \nPOP ROOM : de Britney à Beyoncé\, on chante\, on danse\, tu es la star \nELECTRO ROOM : beats transpirants\, sets pointus\, danse jusqu’au bout de la nuit. \nLE BAR : chill\, rencontres & dancefloor sous les étoiles. \n\n\n\n\n			\n			\n				\n				\n				\n				\n				\n				\n				\n				\n				\n				\n			\n				\n				\n				\n				\n				\n			\n			\n				\n				\n				\n				\n			\n				\n				\n				\n				\n				\n				\n				PREVENTES\n			\n			\n				\n				\n				\n				\n				\n				PLUS D'INFOS\n			\n			\n				\n				\n				\n				\n			\n				\n				\n				\n				\n				\n				\n				\n				\n				\n				\n				Restez connectés ! De plus amples informations concernant la programmation détaillée\, les horaires et les éventuelles surprises vous seront dévoilées très prochainement. Ne manquez pas cette occasion unique de célébrer la diversité\, le sport et la fête dans un cadre exceptionnel. Le VendrediXXL et Les Gaillards vous donnent rendez-vous pour une soirée mémorable !
URL:https://vendredix.fr/event/vendredixxl-wanderlust/
LOCATION:Wanderlust\, 32 Quai d'Austerlitz\, 75013 Paris\, Paris\, 75013\, France
CATEGORIES:VendrediXXL
ATTACH;FMTTYPE=image/jpeg:https://vendredix.fr/wp-content/uploads/2025/06/gaillards27juin-2.jpg
END:VEVENT
END:VCALENDAR