BEGIN:VCALENDAR
VERSION:2.0
PRODID:-//VendrediX - ECPv6.15.20//NONSGML v1.0//EN
CALSCALE:GREGORIAN
METHOD:PUBLISH
X-WR-CALNAME:VendrediX
X-ORIGINAL-URL:https://vendredix.fr
X-WR-CALDESC:Évènements pour VendrediX
REFRESH-INTERVAL;VALUE=DURATION:PT1H
X-Robots-Tag:noindex
X-PUBLISHED-TTL:PT1H
BEGIN:VTIMEZONE
TZID:Europe/Paris
BEGIN:DAYLIGHT
TZOFFSETFROM:+0100
TZOFFSETTO:+0200
TZNAME:CEST
DTSTART:20240331T010000
END:DAYLIGHT
BEGIN:STANDARD
TZOFFSETFROM:+0200
TZOFFSETTO:+0100
TZNAME:CET
DTSTART:20241027T010000
END:STANDARD
BEGIN:DAYLIGHT
TZOFFSETFROM:+0100
TZOFFSETTO:+0200
TZNAME:CEST
DTSTART:20250330T010000
END:DAYLIGHT
BEGIN:STANDARD
TZOFFSETFROM:+0200
TZOFFSETTO:+0100
TZNAME:CET
DTSTART:20251026T010000
END:STANDARD
BEGIN:DAYLIGHT
TZOFFSETFROM:+0100
TZOFFSETTO:+0200
TZNAME:CEST
DTSTART:20260329T010000
END:DAYLIGHT
BEGIN:STANDARD
TZOFFSETFROM:+0200
TZOFFSETTO:+0100
TZNAME:CET
DTSTART:20261025T010000
END:STANDARD
END:VTIMEZONE
BEGIN:VEVENT
DTSTART;TZID=Europe/Paris:20251108T230000
DTEND;TZID=Europe/Paris:20251109T070000
DTSTAMP:20260423T054734
CREATED:20250627T072403Z
LAST-MODIFIED:20251107T143941Z
UID:272183-1762642800-1762671600@vendredix.fr
SUMMARY:DI.X FVTVR
DESCRIPTION:UNDERGROUNDTECHNOLE.SON.MAÎTRECLUB.FVTVR \n			\n				\n				\n				\n				\n				LINE.UP: \nRoccaAlys LFLola CeriseHugo Prime \n			\n				PLUS D'INFOS\n			\n			\n				\n				\n				\n				\n				\n				\n				\n				\n				\n				\n				\n					\n					\n				\n				\n			\n			\n				\n				\n				\n				\n			\n				\n				\n				\n				\n				\n				\n				\n				\n				\n				\n				DI.X promet un retour aux fondamentaux de la techno. Les beats répétitifs et les basses profondes vont t’emporter dans un voyage rythmique sans fin. Les lumières\, simples mais efficaces\, créeront une atmosphère hypnotique qui te plongera au cœur de la musique.
URL:https://vendredix.fr/event/di-x-fvtvr-3/
LOCATION:FVTVR\, 32 Quai d'Austerlitz\, 75013 Paris\, Paris\, 75013\, France
CATEGORIES:DI.X
ATTACH;FMTTYPE=image/png:https://vendredix.fr/wp-content/uploads/2024/10/DIX-Formats-03.png
END:VEVENT
END:VCALENDAR