BEGIN:VCALENDAR
VERSION:2.0
PRODID:-//VendrediX - ECPv6.15.20//NONSGML v1.0//EN
CALSCALE:GREGORIAN
METHOD:PUBLISH
X-ORIGINAL-URL:https://vendredix.fr
X-WR-CALDESC:Évènements pour VendrediX
REFRESH-INTERVAL;VALUE=DURATION:PT1H
X-Robots-Tag:noindex
X-PUBLISHED-TTL:PT1H
BEGIN:VTIMEZONE
TZID:Europe/Paris
BEGIN:DAYLIGHT
TZOFFSETFROM:+0100
TZOFFSETTO:+0200
TZNAME:CEST
DTSTART:20250330T010000
END:DAYLIGHT
BEGIN:STANDARD
TZOFFSETFROM:+0200
TZOFFSETTO:+0100
TZNAME:CET
DTSTART:20251026T010000
END:STANDARD
BEGIN:DAYLIGHT
TZOFFSETFROM:+0100
TZOFFSETTO:+0200
TZNAME:CEST
DTSTART:20260329T010000
END:DAYLIGHT
BEGIN:STANDARD
TZOFFSETFROM:+0200
TZOFFSETTO:+0100
TZNAME:CET
DTSTART:20261025T010000
END:STANDARD
BEGIN:DAYLIGHT
TZOFFSETFROM:+0100
TZOFFSETTO:+0200
TZNAME:CEST
DTSTART:20270328T010000
END:DAYLIGHT
BEGIN:STANDARD
TZOFFSETFROM:+0200
TZOFFSETTO:+0100
TZNAME:CET
DTSTART:20271031T010000
END:STANDARD
END:VTIMEZONE
BEGIN:VEVENT
DTSTART;TZID=Europe/Paris:20260904T190000
DTEND;TZID=Europe/Paris:20260905T020000
DTSTAMP:20260423T054843
CREATED:20260422T093315Z
LAST-MODIFIED:20260422T093315Z
UID:290150-1788548400-1788573600@vendredix.fr
SUMMARY:VendrediX Sur Seine
DESCRIPTION:VendrediX Sur Seine
URL:https://vendredix.fr/event/vendredix-sur-seine-30/
LOCATION:Scilicet\, 134 Voie Georges Pompidou\, 75001 Paris\, Paris\, France
CATEGORIES:VendrediX
END:VEVENT
BEGIN:VEVENT
DTSTART;TZID=Europe/Paris:20260911T190000
DTEND;TZID=Europe/Paris:20260912T020000
DTSTAMP:20260423T054843
CREATED:20260422T093404Z
LAST-MODIFIED:20260422T093404Z
UID:290152-1789153200-1789178400@vendredix.fr
SUMMARY:VendrediX Sur Seine
DESCRIPTION:
URL:https://vendredix.fr/event/vendredix-sur-seine-31/
LOCATION:Scilicet\, 134 Voie Georges Pompidou\, 75001 Paris\, Paris\, France
CATEGORIES:VendrediX
END:VEVENT
BEGIN:VEVENT
DTSTART;TZID=Europe/Paris:20260918T190000
DTEND;TZID=Europe/Paris:20260919T020000
DTSTAMP:20260423T054843
CREATED:20260422T093509Z
LAST-MODIFIED:20260422T093509Z
UID:290154-1789758000-1789783200@vendredix.fr
SUMMARY:VendrediX Sur Seine
DESCRIPTION:
URL:https://vendredix.fr/event/vendredix-sur-seine-32/
LOCATION:Scilicet\, 134 Voie Georges Pompidou\, 75001 Paris\, Paris\, France
CATEGORIES:VendrediX
END:VEVENT
BEGIN:VEVENT
DTSTART;TZID=Europe/Paris:20260925T190000
DTEND;TZID=Europe/Paris:20260926T020000
DTSTAMP:20260423T054843
CREATED:20260422T093611Z
LAST-MODIFIED:20260422T093611Z
UID:290156-1790362800-1790388000@vendredix.fr
SUMMARY:VendrediX Sur Seine
DESCRIPTION:
URL:https://vendredix.fr/event/vendredix-sur-seine-33/
LOCATION:Scilicet\, 134 Voie Georges Pompidou\, 75001 Paris\, Paris\, France
CATEGORIES:VendrediX
END:VEVENT
END:VCALENDAR