BEGIN:VCALENDAR
VERSION:2.0
PRODID:-//VendrediX - ECPv6.15.20//NONSGML v1.0//EN
CALSCALE:GREGORIAN
METHOD:PUBLISH
X-WR-CALNAME:VendrediX
X-ORIGINAL-URL:https://vendredix.fr
X-WR-CALDESC:Évènements pour VendrediX
REFRESH-INTERVAL;VALUE=DURATION:PT1H
X-Robots-Tag:noindex
X-PUBLISHED-TTL:PT1H
BEGIN:VTIMEZONE
TZID:Europe/Paris
BEGIN:DAYLIGHT
TZOFFSETFROM:+0100
TZOFFSETTO:+0200
TZNAME:CEST
DTSTART:20250330T010000
END:DAYLIGHT
BEGIN:STANDARD
TZOFFSETFROM:+0200
TZOFFSETTO:+0100
TZNAME:CET
DTSTART:20251026T010000
END:STANDARD
BEGIN:DAYLIGHT
TZOFFSETFROM:+0100
TZOFFSETTO:+0200
TZNAME:CEST
DTSTART:20260329T010000
END:DAYLIGHT
BEGIN:STANDARD
TZOFFSETFROM:+0200
TZOFFSETTO:+0100
TZNAME:CET
DTSTART:20261025T010000
END:STANDARD
BEGIN:DAYLIGHT
TZOFFSETFROM:+0100
TZOFFSETTO:+0200
TZNAME:CEST
DTSTART:20270328T010000
END:DAYLIGHT
BEGIN:STANDARD
TZOFFSETFROM:+0200
TZOFFSETTO:+0100
TZNAME:CET
DTSTART:20271031T010000
END:STANDARD
END:VTIMEZONE
BEGIN:VEVENT
DTSTART;TZID=Europe/Paris:20260109T190000
DTEND;TZID=Europe/Paris:20260110T060000
DTSTAMP:20260423T015036
CREATED:20250818T150125Z
LAST-MODIFIED:20260104T102418Z
UID:275443-1767985200-1768024800@vendredix.fr
SUMMARY:VendrediXXL\, L’Abstinence est un Péché!
DESCRIPTION:VENDREDIXXL est plus qu’une soirée\, c’est un festival LGBTQIA+.et artistique qui se déroule un vendredi par mois à la Bellevilloise\, à Paris. C’est un rendez-vous très populaire de la vie nocturne parisienne\, connu pour son ambiance festive\, inclusive et pluridisciplinaire. \n\nInclusivité : La soirée est ouverte à tou.te.s\, quels que soient l’âge\, l’orientation sexuelle ou l’identité de genre. Elle est particulièrement appréciée de la communauté LGBTQIA+.\nDiversité artistique : VendrediXXL propose une programmation très variée\, avec de la musique Electro et Pop\, ainsi qu’un cabaret\, un concert d’artistes queer\, des performances de danse\, de la vidéo\, et d’autres formes d’art visuel.\nAmbiance “XXL” : Le nom “XXL” fait référence à l’ampleur de l’événement\, avec plusieurs salles sur 4 étages:  Electric Cave\, Bitchy Floor\, Cabaret d’Ivresse\, Concert Queer\, Bestial Zone ainsi que plusieurs espaces extérieurs.\n\nVENDREDIXXL est une expérience complète qui allie fête\, musique\, performances artistiques et un esprit d’ouverture et de bienveillance. \n			\n				INFOS\n			\n				\n				\n				\n				\n				\n\nENTREE GRATUITE A L’OUVERTUREBILLETS SUR PLACEAvant 21h : 15€Après 21h : 25€ \n\n\n			\n			\n				\n				\n				\n				\n				\n				\n				\n				\n				\n				\n				\n				\n					\n                 VENDREDIXXL BORDEAUXVENDREDIXXL débarque au Bien Public pour la plus déjantée des soirées LGBTQIA+ de Bordeaux ! 🎉🔥 Près de 1500 corps en sueur\, 13h de folie non-stop (de 17h à 6h du mat’)\, et un programme qui déchire : Cabaret de l’extravagance pour lancer les hostilités en beauté.... \n   VendrediXXL Bordeaux🏳️‍🌈Bordeaux\, t’es prêt ? VENDREDIXXL débarque au Bien Public — et on n’a pas fait les choses à moitié avec six ambiances ! Un événement LGBTQIA+ hétéro friendly pour tous.VENDREDIXXL est plus qu’une soirée\, c’est un Festival Queer AFTERWORKCABARET D'IVRESSECONCERT... \n  VendrediXXLVENDREDIXXL est plus qu'une soirée\, c'est un festival LGBTQIA+.et artistique qui se déroule un vendredi par mois à la Bellevilloise\, à Paris. C'est un rendez-vous très populaire de la vie nocturne parisienne\, connu pour son ambiance festive\, inclusive et... \n  VendrediXXLVENDREDIXXL est plus qu'une soirée\, c'est un festival LGBTQIA+.et artistique qui se déroule un vendredi par mois à la Bellevilloise\, à Paris. C'est un rendez-vous très populaire de la vie nocturne parisienne\, connu pour son ambiance festive\, inclusive et... \n   VendrediXXL\, L’Abstinence est un Péché!VENDREDIXXL est plus qu'une soirée\, c'est un festival LGBTQIA+.et artistique qui se déroule un vendredi par mois à la Bellevilloise\, à Paris. C'est un rendez-vous très populaire de la vie nocturne parisienne\, connu pour son ambiance festive\, inclusive et... \n   VendrediXXL Rocky HorrorVENDREDIXXL est plus qu'une soirée\, c'est un festival LGBTQIA+.et artistique qui se déroule un vendredi par mois à la Bellevilloise\, à Paris. C'est un rendez-vous très populaire de la vie nocturne parisienne\, connu pour son ambiance festive\, inclusive et... \n  VendrediXXL Pride   VendrediXXL AntoinetteVENDREDIXXL est plus qu'une soirée\, c'est un festival LGBTQIA+.et artistique qui se déroule un vendredi par mois à la Bellevilloise\, à Paris. C'est un rendez-vous très populaire de la vie nocturne parisienne\, connu pour son ambiance festive\, inclusive et... \n  VendrediXXLVENDREDIXXL est plus qu'une soirée\, c'est un festival LGBTQIA+.et artistique qui se déroule un vendredi par mois à la Bellevilloise\, à Paris. C'est un rendez-vous très populaire de la vie nocturne parisienne\, connu pour son ambiance festive\, inclusive et... \n   VendrediXXLVENDREDIXXL au Bien Public pour la plus déjantée des soirées LGBTQIA+ de Bordeaux ! 🎉🔥 Près de 1500 corps en sueur\, 13h de folie non-stop (de 17h à 6h du mat’)\, et un programme qui déchire : Cabaret de l’extravagance pour lancer les hostilités en beauté. BICHY... \n  VendrediXXL   AYMCE en Live et DJ Set à VENDREDIXXLDurant chaque VENDREDIXXL\, de 20h30 à 22h00\, tu as rendez-vous avec un concert exceptionnel d’artistes Queers Electro-Pop. C’est le moment idéal pour découvrir de nouvelles pépites et te laisser emporter par des sons qui te parlent. Et la bonne nouvelle\, c’est que... \n   GROOVE REPORT en concert à VENDREDIXXLDurant chaque VENDREDIXXL\, de 20h30 à 22h00\, tu as rendez-vous avec un concert exceptionnel d’artistes Queers Electro-Pop. C’est le moment idéal pour découvrir de nouvelles pépites et te laisser emporter par des sons qui te parlent. Et la bonne nouvelle\, c’est que... \n   VendrediXXL Bill is BackVENDREDIXXL est plus qu’une soirée\, c’est un Festival Queer AFTERWORKCABARET D'IVRESSEATELIER PEINTURECONCERT QUEERPERFORMERS ELECTROROOMPOPROOMBESTIALROOM ENTREE GRATUITE A L’OUVERTUREBILLETS SUR PLACEAvant 21h : 10€Après 21h : 25€ Plus de 30 artistes:... \n   Anita Avakian en concert à VENDREDIXXLDurant chaque VENDREDIXXL\, de 20h30 à 22h00\, tu as rendez-vous avec un concert exceptionnel d’artistes Queers Electro-Pop. C’est le moment idéal pour découvrir de nouvelles pépites et te laisser emporter par des sons qui te parlent. Et la bonne nouvelle\, c’est que... \n  VendrediXXLVENDREDIXXL est plus qu'une soirée\, c'est un festival LGBTQIA+.et artistique qui se déroule un vendredi par mois à la Bellevilloise\, à Paris. C'est un rendez-vous très populaire de la vie nocturne parisienne\, connu pour son ambiance festive\, inclusive et... \n  VendrediXXLVENDREDIXXL est plus qu'une soirée\, c'est un festival LGBTQIA+.et artistique qui se déroule un vendredi par mois à la Bellevilloise\, à Paris. C'est un rendez-vous très populaire de la vie nocturne parisienne\, connu pour son ambiance festive\, inclusive et... \n   VendrediXXL O FantasmaVENDREDIXXL est plus qu'une soirée\,c'est un Festival Queer 19H-22HAFTERWORKCABARET D'IVRESSEATELIER PEINTURECONCERT QUEER22H-6HELECTROROOMPOPROOMBESTIALROOM ENTREE GRATUITE A L’OUVERTUREBILLETS SUR PLACEAvant 21h : 10€Après 21h : 25€ Plus de 20 Artistes: CORRINE |... \n   VendrediXXL avec European Snow PrideVENDREDIXXL est plus qu'une soirée\, c'est un festival LGBTQIA+.et artistique qui se déroule un vendredi par mois à la Bellevilloise\, à Paris. C'est un rendez-vous très populaire de la vie nocturne parisienne\, connu pour son ambiance festive\, inclusive et... \n   VendrediXXL ENSEMBLEVENDREDIXXL est plus qu'une soirée\, c'est un festival LGBTQIA+.et artistique qui se déroule un vendredi par mois à la Bellevilloise\, à Paris. C'est un rendez-vous très populaire de la vie nocturne parisienne\, connu pour son ambiance festive\, inclusive et... \n   VendrediXXL Bang Bang BarVENDREDIXXL est plus qu'une soirée\, c'est un festival LGBTQIA+.et artistique qui se déroule un vendredi par mois à la Bellevilloise\, à Paris. C'est un rendez-vous très populaire de la vie nocturne parisienne\, connu pour son ambiance festive\, inclusive et... \n   VendrediXXL10 avril à Paris – VENDREDIXXL : LA NUIT QUI DÉFONCE TOUTES LES RÈGLES: 3000m² sur 4 étages\, 5 ambiances pour une soirée sans limites.🎭 Cabaret d’IvresseTon apéro musical débridé avant l’explosion VENDREDIXXL ! Un mélange détonant de chansons revisitées\, d’humour... \n   VendrediXXL Kiss Moi FortVENDREDIXXL est plus qu'une soirée\, c'est un festival LGBTQIA+.et artistique qui se déroule un vendredi par mois à la Bellevilloise\, à Paris. C'est un rendez-vous très populaire de la vie nocturne parisienne\, connu pour son ambiance festive\, inclusive et... \n   VendrediXXL & Les Gaillards : Pride en SeineVendrediXXL et Les Gaillards : Une Soirée Explosive à la Veille de la Marche des Fiertés ! Préparez-vous pour un événement inoubliable ! Le célèbre VendrediXXL s'associe au dynamique club de rugby Les Gaillards pour une soirée exceptionnelle au Wanderlust\, la... \n   VendrediXXLVENDREDIXXL\, c’est pas juste une soirée\, c’est LE festival LGBTQIA+ et artistique qui déchire tous les mois à La Bellevilloise ! 🌈✨ Un vendredi par mois\, on s’installe dans le temple de la nuit parisienne pour un mélange explosif de musique\, d’art et de bonne... \n   VendrediXXL BordeauxVENDREDIXXL débarque au Bien Public pour la plus déjantée des soirées LGBTQIA+ de Bordeaux ! 🎉🔥 Près de 1500 corps en sueur\, 13h de folie non-stop (de 17h à 6h du mat’)\, et un programme qui déchire : Cabaret de l’extravagance pour lancer les hostilités en beauté.... \n  VendrediXXLVENDREDIXXL est plus qu'une soirée\, c'est un festival LGBTQIA+.et artistique qui se déroule un vendredi par mois à la Bellevilloise\, à Paris. C'est un rendez-vous très populaire de la vie nocturne parisienne\, connu pour son ambiance festive\, inclusive et... \n   VendrediXXLVENDREDIXXL est plus qu'une soirée\, c'est un festival LGBTQIA+.et artistique qui se déroule un vendredi par mois à la Bellevilloise\, à Paris. C'est un rendez-vous très populaire de la vie nocturne parisienne\, connu pour son ambiance festive\, inclusive et... \n   VendrediXXL Bordeaux🔥 Bordeaux\, t’es chaud·e ? VENDREDIXXL débarque (encore) au Bien Public\, et cette fois\, on a mis les petits plats dans les GRANDS Six ambiances\, un seul mot d’ordre : délire garanti. Que tu sois LGBTQIA+\, allié·e ou juste là pour kiffer\, t’es au bon endroit. La... \n   VendrediXXL fait la 3ème Mi-Temps des GaillardsVENDREDIXXL est plus qu'une soirée\, c'est un festival LGBTQIA+.et artistique qui se déroule un vendredi par mois à la Bellevilloise\, à Paris. C'est un rendez-vous très populaire de la vie nocturne parisienne\, connu pour son ambiance festive\, inclusive et...
URL:https://vendredix.fr/event/vendredixxl-8/
LOCATION:Bellevilloise\, 19-21 Rue Boyer\, 75020 Paris\, Paris\, France
CATEGORIES:VendrediXXL
ATTACH;FMTTYPE=image/jpeg:https://vendredix.fr/wp-content/uploads/2026/01/vxxl_1x1_09JANV.jpg
END:VEVENT
BEGIN:VEVENT
DTSTART;TZID=Europe/Paris:20260116T170000
DTEND;TZID=Europe/Paris:20260117T060000
DTSTAMP:20260423T015036
CREATED:20251104T095527Z
LAST-MODIFIED:20251106T200112Z
UID:280365-1768582800-1768629600@vendredix.fr
SUMMARY:VendrediXXL Bordeaux
DESCRIPTION:🔥 Bordeaux\, t’es chaud·e ? VENDREDIXXL débarque (encore) au Bien Public\, et cette fois\, on a mis les petits plats dans les GRANDS \nSix ambiances\, un seul mot d’ordre : délire garanti. Que tu sois LGBTQIA+\, allié·e ou juste là pour kiffer\, t’es au bon endroit. La première édition ? 1500 fêtard·es\, une énergie de ouf et des souvenirs qui brûlent encore nos rétines. Alors cette fois\, on a tout boosté : plus de folie\, plus de funk\, plus de surprises… et même des prix qui font plaisir à ton porte-monnaie. \nPrépare-toi\, parce que cette nuit\, on va tout casser (sauf les cœurs\, promis). 😉💥(PS : T’as intérêt à être là\, sinon tu vas le regretter…) \n			\n				INFOS
URL:https://vendredix.fr/event/vendredixxl-bordeaux-2/
LOCATION:Bien Public\, 68 Quai Deschamps\, Bordeaux\, 33100\, France
CATEGORIES:VendrediXXL
ATTACH;FMTTYPE=image/jpeg:https://vendredix.fr/wp-content/uploads/2025/11/vxxlbordeaux_1x1_16JAN.jpg
END:VEVENT
END:VCALENDAR