BEGIN:VCALENDAR
VERSION:2.0
PRODID:-//VendrediX - ECPv6.15.20//NONSGML v1.0//EN
CALSCALE:GREGORIAN
METHOD:PUBLISH
X-ORIGINAL-URL:https://vendredix.fr
X-WR-CALDESC:Évènements pour VendrediX
REFRESH-INTERVAL;VALUE=DURATION:PT1H
X-Robots-Tag:noindex
X-PUBLISHED-TTL:PT1H
BEGIN:VTIMEZONE
TZID:Europe/Paris
BEGIN:DAYLIGHT
TZOFFSETFROM:+0100
TZOFFSETTO:+0200
TZNAME:CEST
DTSTART:20250330T010000
END:DAYLIGHT
BEGIN:STANDARD
TZOFFSETFROM:+0200
TZOFFSETTO:+0100
TZNAME:CET
DTSTART:20251026T010000
END:STANDARD
BEGIN:DAYLIGHT
TZOFFSETFROM:+0100
TZOFFSETTO:+0200
TZNAME:CEST
DTSTART:20260329T010000
END:DAYLIGHT
BEGIN:STANDARD
TZOFFSETFROM:+0200
TZOFFSETTO:+0100
TZNAME:CET
DTSTART:20261025T010000
END:STANDARD
BEGIN:DAYLIGHT
TZOFFSETFROM:+0100
TZOFFSETTO:+0200
TZNAME:CEST
DTSTART:20270328T010000
END:DAYLIGHT
BEGIN:STANDARD
TZOFFSETFROM:+0200
TZOFFSETTO:+0100
TZNAME:CET
DTSTART:20271031T010000
END:STANDARD
END:VTIMEZONE
BEGIN:VEVENT
DTSTART;TZID=Europe/Paris:20260313T190000
DTEND;TZID=Europe/Paris:20260314T060000
DTSTAMP:20260422T220325
CREATED:20250818T151617Z
LAST-MODIFIED:20260227T155706Z
UID:275456-1773428400-1773468000@vendredix.fr
SUMMARY:VendrediXXL Antoinette
DESCRIPTION:VENDREDIXXL est plus qu’une soirée\, c’est un festival LGBTQIA+.et artistique qui se déroule un vendredi par mois à la Bellevilloise\, à Paris. C’est un rendez-vous très populaire de la vie nocturne parisienne\, connu pour son ambiance festive\, inclusive et pluridisciplinaire. \n			\n				INFOS\n			\n				\n				\n				\n				\n				\n\nENTREE GRATUITE A L’OUVERTUREBILLETS SUR PLACEAvant 21h : 15€Après 21h : 25€ \n\n\n			\n				PREVENTES\n			\n			\n				\n				\n				\n				\n				\n				\n				\n				\n				\n				5 ambiances :Cabaret d’Ivresse | Concert (ElectroPop) | Bitchy Floor (Pop & HyperPop) | Cave Electric (Electro & Techno) | Bestial Zone (Arts & Q) \n3000m2 sur 4 étagesJardin & TerrasseStand NourritureStand TattooOracle & TarotPréventionShows & Surprises
URL:https://vendredix.fr/event/vendredixxl-10/
LOCATION:Bellevilloise\, 19-21 Rue Boyer\, 75020 Paris\, Paris\, France
CATEGORIES:VendrediXXL
ATTACH;FMTTYPE=image/jpeg:https://vendredix.fr/wp-content/uploads/2026/02/vxxl_1x1_13MARS.jpg
END:VEVENT
BEGIN:VEVENT
DTSTART;TZID=Europe/Paris:20260320T170000
DTEND;TZID=Europe/Paris:20260321T060000
DTSTAMP:20260422T220325
CREATED:20251127T151320Z
LAST-MODIFIED:20260209T214643Z
UID:282487-1774026000-1774072800@vendredix.fr
SUMMARY:VendrediXXL Bordeaux
DESCRIPTION:VENDREDIXXL débarque au Bien Public pour la plus déjantée des soirées LGBTQIA+ de Bordeaux ! 🎉🔥 \nPrès de 1500 corps en sueur\, 13h de folie non-stop (de 17h à 6h du mat’)\, et un programme qui déchire : \n\nCabaret de l’extravagance pour lancer les hostilités en beauté.\nBICHY FLOOR : pop et hyperpop pour faire trembler le dancefloor.\nCAVE ELECTRIC en sous-sol : de l’électro qui cogne\, et des écrans géants (4m !) qui balancent des images chaudes et fières de meufs et de mecs qui assument leur corps à fond.\nBESTIAL ZONE : parce qu’on a tous besoin d’un peu de liberté… et de plaisir.\n\nVendrediXXL\, c’est l’endroit où Bordeaux se lâche sans complexe. T’es prêt·e ?” 😏💃🕺 \n			\n			\n				\n				\n				\n				\n			\n				\n				\n				\n				\n				\n				\n				PREVENTES\n			\n			\n				\n				\n				\n				\n				\n				CONTACT\n			\n			\n				\n				\n				\n				\n				\n				VENDREDIXXL
URL:https://vendredix.fr/event/vendredixxl-bordeaux-3/
LOCATION:Bien Public\, 68 Quai Deschamps\, Bordeaux\, 33100\, France
CATEGORIES:VendrediXXL
ATTACH;FMTTYPE=image/jpeg:https://vendredix.fr/wp-content/uploads/2026/02/vxxl_1x1_20MARS.jpg
END:VEVENT
END:VCALENDAR