BEGIN:VCALENDAR
VERSION:2.0
PRODID:-//VendrediX - ECPv6.15.20//NONSGML v1.0//EN
CALSCALE:GREGORIAN
METHOD:PUBLISH
X-WR-CALNAME:VendrediX
X-ORIGINAL-URL:https://vendredix.fr
X-WR-CALDESC:Évènements pour VendrediX
REFRESH-INTERVAL;VALUE=DURATION:PT1H
X-Robots-Tag:noindex
X-PUBLISHED-TTL:PT1H
BEGIN:VTIMEZONE
TZID:Europe/Paris
BEGIN:DAYLIGHT
TZOFFSETFROM:+0100
TZOFFSETTO:+0200
TZNAME:CEST
DTSTART:20240331T010000
END:DAYLIGHT
BEGIN:STANDARD
TZOFFSETFROM:+0200
TZOFFSETTO:+0100
TZNAME:CET
DTSTART:20241027T010000
END:STANDARD
BEGIN:DAYLIGHT
TZOFFSETFROM:+0100
TZOFFSETTO:+0200
TZNAME:CEST
DTSTART:20250330T010000
END:DAYLIGHT
BEGIN:STANDARD
TZOFFSETFROM:+0200
TZOFFSETTO:+0100
TZNAME:CET
DTSTART:20251026T010000
END:STANDARD
BEGIN:DAYLIGHT
TZOFFSETFROM:+0100
TZOFFSETTO:+0200
TZNAME:CEST
DTSTART:20260329T010000
END:DAYLIGHT
BEGIN:STANDARD
TZOFFSETFROM:+0200
TZOFFSETTO:+0100
TZNAME:CET
DTSTART:20261025T010000
END:STANDARD
END:VTIMEZONE
BEGIN:VEVENT
DTSTART;VALUE=DATE:20250502
DTEND;VALUE=DATE:20250503
DTSTAMP:20260423T184201
CREATED:20250502T172738Z
LAST-MODIFIED:20250506T121714Z
UID:270272-1746144000-1746230399@vendredix.fr
SUMMARY:Pas d'évènement ce soir\, même avec ce super temps\, c'est triste mais on revient vite!
DESCRIPTION: 
URL:https://vendredix.fr/event/rien/
LOCATION:Scilicet\, 134 Voie Georges Pompidou\, 75001 Paris\, Paris\, France
CATEGORIES:VendrediX
END:VEVENT
BEGIN:VEVENT
DTSTART;TZID=Europe/Paris:20250509T190000
DTEND;TZID=Europe/Paris:20250510T060000
DTSTAMP:20260423T184201
CREATED:20250426T144835Z
LAST-MODIFIED:20250616T162333Z
UID:269373-1746817200-1746856800@vendredix.fr
SUMMARY:VendrediXXL O Fantasma
DESCRIPTION:VENDREDIXXL est plus qu’une soirée\,c’est un Festival Queer \n\n\n			\n				\n				\n				\n				\n				\n\n19H-22HAFTERWORKCABARET D’IVRESSEATELIER PEINTURECONCERT QUEER22H-6HELECTROROOMPOPROOMBESTIALROOM \n\n\n			\n				PLUS D'INFOS\n			\n				\n				\n				\n				\n				\n\nENTREE GRATUITE A L’OUVERTUREBILLETS SUR PLACEAvant 21h : 10€Après 21h : 25€ \n\n\n			\n				PREVENTES\n			\n				\n				\n				\n				\n				Plus de 20 Artistes: CORRINE | DAT DRIMS | AGATHA BEAR | CHOEUR PIERRE | WEND’EE | OUTSIDERS | Juleeo | Nonsmash | Card Mercier | Wes | dgrah | Bomo | Rody V | IVRESSE | DANIEL S | KYSSY BANG BANG | TERRIBLE ENFANT | CHRISTOPHE APATIE | VINCENT GESTERMANN | RAWDON CRAWLEY | Tom La Crapule | Anita Avakian
URL:https://vendredix.fr/event/vendredixxl/
LOCATION:Bellevilloise\, 19-21 Rue Boyer\, 75020 Paris\, Paris\, France
CATEGORIES:VendrediXXL
ATTACH;FMTTYPE=image/jpeg:https://vendredix.fr/wp-content/uploads/2025/04/XXL09MAI_1_1-1.jpg
END:VEVENT
BEGIN:VEVENT
DTSTART;TZID=Europe/Paris:20250516T190000
DTEND;TZID=Europe/Paris:20250517T020000
DTSTAMP:20260423T184201
CREATED:20250426T134806Z
LAST-MODIFIED:20250616T211943Z
UID:269335-1747422000-1747447200@vendredix.fr
SUMMARY:VendrediX Sur Seine
DESCRIPTION:Que tu viennes décompresser après le taff\, lancer ta soirée en beauté\, ou simplement kiffer Paris comme il se doit — VendrediX sur Seine est ton rendez-vous du vendredi. La Seine est notre dancefloor. Tu viens ? \n			\n				\n				\n				\n				\n				\n			\n				PLUS D'INFOS\n			\n				\n				\n				\n				\n				🕕 De 19h à 2h du matin🍹 Apéro\, Afterwork ou Before de soirée🎶 DJ set open air🍴 Food dispo sur place📍 Scilicet\, ton spot fétiche💸 Entrée gratuite – Prends ton billet gratuit \n			\n				BILLET GRATUIT
URL:https://vendredix.fr/event/vendredix-sur-seine/
LOCATION:Scilicet\, 134 Voie Georges Pompidou\, 75001 Paris\, Paris\, France
CATEGORIES:VendrediX
ATTACH;FMTTYPE=image/jpeg:https://vendredix.fr/wp-content/uploads/2025/04/vendredixsurseine_16_9.jpg
END:VEVENT
BEGIN:VEVENT
DTSTART;TZID=Europe/Paris:20250523T190000
DTEND;TZID=Europe/Paris:20250524T020000
DTSTAMP:20260423T184201
CREATED:20250426T171620Z
LAST-MODIFIED:20250616T211927Z
UID:269452-1748026800-1748052000@vendredix.fr
SUMMARY:VendrediX Sur Seine
DESCRIPTION:Que tu viennes décompresser après le taff\, lancer ta soirée en beauté\, ou simplement kiffer Paris comme il se doit — VendrediX sur Seine est ton rendez-vous du vendredi. La Seine est notre dancefloor. Tu viens ? \n			\n				\n				\n				\n				\n				\n			\n				PLUS D'INFOS\n			\n				\n				\n				\n				\n				🕕 De 19h à 2h du matin🍹 Apéro\, Afterwork ou Before de soirée🎶 DJ set open air📍 Scilicet\, ton spot fétiche💸 Entrée gratuite – Prends ton billet gratuit \n			\n				BILLET GRATUIT
URL:https://vendredix.fr/event/vendredix-sur-seine-3/
LOCATION:Scilicet\, 134 Voie Georges Pompidou\, 75001 Paris\, Paris\, France
CATEGORIES:VendrediX
ATTACH;FMTTYPE=image/jpeg:https://vendredix.fr/wp-content/uploads/2025/04/vendredixsurseine_16_9_1.jpg
END:VEVENT
BEGIN:VEVENT
DTSTART;TZID=Europe/Paris:20250528T230000
DTEND;TZID=Europe/Paris:20250529T070000
DTSTAMP:20260423T184201
CREATED:20250426T172401Z
LAST-MODIFIED:20250602T134624Z
UID:269461-1748473200-1748502000@vendredix.fr
SUMMARY:DI.X FVTVR
DESCRIPTION:UNDERGROUNDTECHNOLE.SON.MAÎTRESEX.ALLOWEDCLUB.FVTVR \n			\n				PREVENTES\n			\n				\n				\n				\n				\n				LINE.UP:Ben MansonPrauzeHugo Prime \n			\n				PLUS D'INFOS
URL:https://vendredix.fr/event/di-x-fvtvr/
LOCATION:FVTVR\, 32 Quai d'Austerlitz\, 75013 Paris\, Paris\, 75013\, France
CATEGORIES:DI.X
ATTACH;FMTTYPE=image/jpeg:https://vendredix.fr/wp-content/uploads/2025/04/DIX_djs_28mai_1_1.jpg
END:VEVENT
BEGIN:VEVENT
DTSTART;TZID=Europe/Paris:20250530T190000
DTEND;TZID=Europe/Paris:20250531T020000
DTSTAMP:20260423T184201
CREATED:20250426T171953Z
LAST-MODIFIED:20250616T211920Z
UID:269457-1748631600-1748656800@vendredix.fr
SUMMARY:VendrediX Sur Seine
DESCRIPTION:Que tu viennes décompresser après le taff\, lancer ta soirée en beauté\, ou simplement kiffer Paris comme il se doit — VendrediX sur Seine est ton rendez-vous du vendredi. La Seine est notre dancefloor. Tu viens ? \n			\n				\n				\n				\n				\n				\n			\n				PLUS D'INFOS\n			\n				\n				\n				\n				\n				🕕 De 19h à 2h du matin🍹 Apéro\, Afterwork ou Before de soirée🎶 DJ set open air🍴 Food dispo sur place📍 Scilicet\, ton spot fétiche💸 Entrée gratuite – Prends ton billet gratuit \n			\n				BILLET GRATUIT
URL:https://vendredix.fr/event/vendredix-sur-seine-4/
LOCATION:Scilicet\, 134 Voie Georges Pompidou\, 75001 Paris\, Paris\, France
CATEGORIES:VendrediX
ATTACH;FMTTYPE=image/jpeg:https://vendredix.fr/wp-content/uploads/2025/04/vendredixsurseine_16_9_3.jpg
END:VEVENT
END:VCALENDAR