BEGIN:VCALENDAR
VERSION:2.0
PRODID:-//VendrediX - ECPv6.15.20//NONSGML v1.0//EN
CALSCALE:GREGORIAN
METHOD:PUBLISH
X-ORIGINAL-URL:https://vendredix.fr
X-WR-CALDESC:Évènements pour VendrediX
REFRESH-INTERVAL;VALUE=DURATION:PT1H
X-Robots-Tag:noindex
X-PUBLISHED-TTL:PT1H
BEGIN:VTIMEZONE
TZID:Europe/Paris
BEGIN:DAYLIGHT
TZOFFSETFROM:+0100
TZOFFSETTO:+0200
TZNAME:CEST
DTSTART:20240331T010000
END:DAYLIGHT
BEGIN:STANDARD
TZOFFSETFROM:+0200
TZOFFSETTO:+0100
TZNAME:CET
DTSTART:20241027T010000
END:STANDARD
BEGIN:DAYLIGHT
TZOFFSETFROM:+0100
TZOFFSETTO:+0200
TZNAME:CEST
DTSTART:20250330T010000
END:DAYLIGHT
BEGIN:STANDARD
TZOFFSETFROM:+0200
TZOFFSETTO:+0100
TZNAME:CET
DTSTART:20251026T010000
END:STANDARD
BEGIN:DAYLIGHT
TZOFFSETFROM:+0100
TZOFFSETTO:+0200
TZNAME:CEST
DTSTART:20260329T010000
END:DAYLIGHT
BEGIN:STANDARD
TZOFFSETFROM:+0200
TZOFFSETTO:+0100
TZNAME:CET
DTSTART:20261025T010000
END:STANDARD
END:VTIMEZONE
BEGIN:VEVENT
DTSTART;TZID=Europe/Paris:20250606T190000
DTEND;TZID=Europe/Paris:20250607T020000
DTSTAMP:20260423T165846
CREATED:20250426T220522Z
LAST-MODIFIED:20250616T211854Z
UID:269545-1749236400-1749261600@vendredix.fr
SUMMARY:VendrediX Sur Seine
DESCRIPTION:Même avec le mauvais temps\, VendrediX Sur Seine continue à l’intérieur du club Scilicet\, en mode encore plus festif! \n			\n				\n				\n				\n				\n				\n			\n				\n				\n				\n				\n				Que tu viennes décompresser après le taff\, lancer ta soirée en beauté\, ou simplement kiffer Paris comme il se doit — VendrediX sur Seine est ton rendez-vous du vendredi. La Seine est notre dancefloor. Tu viens ? \n			\n				PLUS D'INFOS\n			\n				\n				\n				\n				\n				🕕 De 19h à 2h du matin🍹 Apéro\, Afterwork ou Before de soirée🎶 DJ set: DGRAPH📍 Scilicet\, ton spot fétiche💸 Entrée gratuite – Prends ton billet gratuit \n			\n				BILLET GRATUIT
URL:https://vendredix.fr/event/vendredix-sur-seine-5/
LOCATION:Scilicet\, 134 Voie Georges Pompidou\, 75001 Paris\, Paris\, France
CATEGORIES:VendrediX
ATTACH;FMTTYPE=image/jpeg:https://vendredix.fr/wp-content/uploads/2025/04/vendredixsurseine_1_1_interieur.jpg
END:VEVENT
BEGIN:VEVENT
DTSTART;TZID=Europe/Paris:20250613T190000
DTEND;TZID=Europe/Paris:20250614T060000
DTSTAMP:20260423T165846
CREATED:20250426T181016Z
LAST-MODIFIED:20250616T162328Z
UID:269484-1749841200-1749880800@vendredix.fr
SUMMARY:VendrediXXL Bill is Back
DESCRIPTION:VENDREDIXXL est plus qu’une soirée\, c’est un Festival Queer \nAFTERWORKCABARET D’IVRESSEATELIER PEINTURECONCERT QUEERPERFORMERS \nELECTROROOMPOPROOMBESTIALROOM \n			\n				PLUS D'INFOS\n			\n				\n				\n				\n				\n				\n\nENTREE GRATUITE A L’OUVERTUREBILLETS SUR PLACEAvant 21h : 10€Après 21h : 25€ \n\n\n			\n				PREVENTES\n			\n				\n				\n				\n				\n				Plus de 30 artistes: Jean-Charles Nu | Kazybris | NORDVÏCK | Arno Skrilh | Ben Manson | Rody V | Bomo | Dgraph | IVRESSE | DANIEL S | KYSSY BANG BANG | TERRIBLE ENFANT | CHRISTOPHE APATIE | VINCENT GESTERMANN | RAWDON CRAWLEY | Michelle et les Garçons | Freddy Diallo | Dat Drims | OUTSIDERS | LAISSEZ NOUS DANSER | JAYBEE | LORENTZ | Tom la Crapule
URL:https://vendredix.fr/event/vendredixxl-2/
LOCATION:Bellevilloise\, 19-21 Rue Boyer\, 75020 Paris\, Paris\, France
CATEGORIES:VendrediXXL
ATTACH;FMTTYPE=image/jpeg:https://vendredix.fr/wp-content/uploads/2025/04/XXL13JUIN_1_1.jpg
END:VEVENT
BEGIN:VEVENT
DTSTART;TZID=Europe/Paris:20250613T193000
DTEND;TZID=Europe/Paris:20250613T220000
DTSTAMP:20260423T165846
CREATED:20250605T173655Z
LAST-MODIFIED:20250616T162307Z
UID:272510-1749843000-1749852000@vendredix.fr
SUMMARY:Cabaret d'Ivresse à VendrediXXL\, près de 2h30 de spectacle\, de chansons\, de danses\, de rires\, …
DESCRIPTION:VENDREDIXXL est plus qu’une soirée\, c’est un Festival Queer19H00-6H00 \nAFTERWORKCABARET D’IVRESSEATELIER PEINTURECONCERT QUEERPERFORMERS \nELECTROROOMPOPROOMBESTIALROOM \n			\n				PLUS D'INFOS\n			\n				\n				\n				\n				\n				\n\nENTREE GRATUITE A L’OUVERTUREBILLETS SUR PLACEAvant 21h : 10€Après 21h : 25€ \n\n\n			\n				PREVENTES\n			\n				\n				\n				\n				\n				Plus de 30 artistes: Jean-Charles Nu | Kazybris | NORDVÏCK | Arno Skrilh | Ben Manson | Rody V | Bomo | Dgraph | IVRESSE | DANIEL S | KYSSY BANG BANG | TERRIBLE ENFANT | CHRISTOPHE APATIE | VINCENT GESTERMANN | RAWDON CRAWLEY | Michelle et les Garçons | Freddy Diallo | Dat Drims | OUTSIDERS | LAISSEZ NOUS DANSER | JAYBEE | LORENTZ | Tom la Crapule \n			\n			\n				\n				\n				\n				\n				\n				\n				\n				\n				\n				\n			\n				\n				\n				\n				\n				\nDes chansons. Des chansons. Des chansons. Elles nous ont bercé\, elles nous font rire\, nous font pleurer\, parfois elles nous mettent en colère\, elles nous appartiennent à tous et toutes.\n\nElles sont nos souvenirs et le ciment de notre culture et de notre langue que j’affectionne tant.Le Cabaret d’Ivresse c’est à elles qu’il rend hommage\, à tous ces airs qui nous font chanter tous ensemble. \nC’est le partage et c’est l’unisson. Venez jouer et chanter avec moi\, avec mon merveilleux pianiste Vincent Gestermann et avec ces artistes invité.e.s ou spontané.e.s qui viennent nous dire leur amour de la chanson française (et pas que!). \n\n\n			\n				Cabaret d'Ivresse
URL:https://vendredix.fr/event/cabaret-divresse-a-vendredixxl/
LOCATION:Bellevilloise\, 19-21 Rue Boyer\, 75020 Paris\, Paris\, France
ATTACH;FMTTYPE=image/jpeg:https://vendredix.fr/wp-content/uploads/2025/06/XXL13JUIN_CABARET_1_1.jpg
END:VEVENT
BEGIN:VEVENT
DTSTART;TZID=Europe/Paris:20250613T210000
DTEND;TZID=Europe/Paris:20250613T223000
DTSTAMP:20260423T165846
CREATED:20250603T104608Z
LAST-MODIFIED:20250616T162316Z
UID:272192-1749848400-1749853800@vendredix.fr
SUMMARY:Michelle & Les Garçons en concert à VendrediXXL
DESCRIPTION:VENDREDIXXL est plus qu’une soirée\, c’est un Festival Queer19H00-6H00 \nAFTERWORKCABARET D’IVRESSEATELIER PEINTURECONCERT QUEERPERFORMERS \nELECTROROOMPOPROOMBESTIALROOM \n			\n				PLUS D'INFOS\n			\n				\n				\n				\n				\n				\n\nENTREE GRATUITE A L’OUVERTUREBILLETS SUR PLACEAvant 21h : 10€Après 21h : 25€ \n\n\n			\n				PREVENTES\n			\n				\n				\n				\n				\n				Plus de 30 artistes: Jean-Charles Nu | Kazybris | NORDVÏCK | Arno Skrilh | Ben Manson | Rody V | Bomo | Dgraph | IVRESSE | DANIEL S | KYSSY BANG BANG | TERRIBLE ENFANT | CHRISTOPHE APATIE | VINCENT GESTERMANN | RAWDON CRAWLEY | Michelle et les Garçons | Freddy Diallo | Dat Drims | OUTSIDERS | LAISSEZ NOUS DANSER | JAYBEE | LORENTZ | Tom la Crapule \n			\n			\n				\n				\n				\n				\n				\n				\n				\n				\n				\n				\n			\n				\n				\n				\n				\n				VendrediXXL est plus qu’une soirée où faire la fête et danser\, c’est aussi une soirée artistique pluridisciplinaire qui accueille une multitude d’artistes\, dans tous les domaines de l’art\, tels que la peinture\, la vidéo\, la musique\, la danse. VendrediXXL fait découvrir des artistes Queers Electro-Pop lors d’un concert de 21h00 à 22h30. L’accès est inclus dans la soirée VendrediXXL\, le concert se situe dans le Club. \n			\n				Michelle & Les Garçons
URL:https://vendredix.fr/event/michelle-les-garcons-en-concert-a-vendredixxl/
LOCATION:Bellevilloise\, 19-21 Rue Boyer\, 75020 Paris\, Paris\, France
ATTACH;FMTTYPE=image/jpeg:https://vendredix.fr/wp-content/uploads/2025/05/XXL13JUIN_CONCERT_1_1.jpg
END:VEVENT
BEGIN:VEVENT
DTSTART;TZID=Europe/Paris:20250620T190000
DTEND;TZID=Europe/Paris:20250621T020000
DTSTAMP:20260423T165846
CREATED:20250426T220651Z
LAST-MODIFIED:20250616T211846Z
UID:269547-1750446000-1750471200@vendredix.fr
SUMMARY:VendrediX Sur Seine
DESCRIPTION:Que tu viennes décompresser après le taff\, lancer ta soirée en beauté\, ou simplement kiffer Paris comme il se doit — VendrediX sur Seine est ton rendez-vous du vendredi. La Seine est notre dancefloor. Tu viens ? \n			\n				\n				\n				\n				\n				\n			\n				PLUS D'INFOS\n			\n				\n				\n				\n				\n				🕕 De 19h à 2h du matin🍹 Apéro\, Afterwork ou Before de soirée🎶 DJ set open air: Loki Starfish📍 Scilicet\, ton spot fétiche💸 Entrée gratuite – Prends ton billet gratuit \n			\n				BILLET GRATUIT
URL:https://vendredix.fr/event/vendredix-sur-seine-6/
LOCATION:Scilicet\, 134 Voie Georges Pompidou\, 75001 Paris\, Paris\, France
CATEGORIES:VendrediX
ATTACH;FMTTYPE=image/jpeg:https://vendredix.fr/wp-content/uploads/2025/04/vendredixsurseine_16_9.jpg
END:VEVENT
BEGIN:VEVENT
DTSTART;TZID=Europe/Paris:20250627T190000
DTEND;TZID=Europe/Paris:20250628T060000
DTSTAMP:20260423T165846
CREATED:20250427T071824Z
LAST-MODIFIED:20250624T140225Z
UID:269607-1751050800-1751090400@vendredix.fr
SUMMARY:VendrediXXL & Les Gaillards : Pride en Seine
DESCRIPTION:5 espaces – 5 ambiances : \nLA TERRASSE : boire et danser sous les étoiles de Paris\, en bord de Seine \nLE CABARET : Vianney & Ivresse chantent les classiques de la chanson Française \nPOP ROOM : de Britney à Beyoncé\, on chante\, on danse\, tu es la star \nELECTRO ROOM : beats transpirants\, sets pointus\, danse jusqu’au bout de la nuit. \nLE BAR : chill\, rencontres & dancefloor sous les étoiles. \n\n\n\n\n			\n			\n				\n				\n				\n				\n				\n				\n				\n				\n				\n				\n			\n				\n				\n				\n				\n				\n			\n			\n				\n				\n				\n				\n			\n				\n				\n				\n				\n				\n				\n				PREVENTES\n			\n			\n				\n				\n				\n				\n				\n				PLUS D'INFOS\n			\n			\n				\n				\n				\n				\n			\n				\n				\n				\n				\n				\n				\n				\n				\n				\n				\n				Restez connectés ! De plus amples informations concernant la programmation détaillée\, les horaires et les éventuelles surprises vous seront dévoilées très prochainement. Ne manquez pas cette occasion unique de célébrer la diversité\, le sport et la fête dans un cadre exceptionnel. Le VendrediXXL et Les Gaillards vous donnent rendez-vous pour une soirée mémorable !
URL:https://vendredix.fr/event/vendredixxl-wanderlust/
LOCATION:Wanderlust\, 32 Quai d'Austerlitz\, 75013 Paris\, Paris\, 75013\, France
CATEGORIES:VendrediXXL
ATTACH;FMTTYPE=image/jpeg:https://vendredix.fr/wp-content/uploads/2025/06/gaillards27juin-2.jpg
END:VEVENT
BEGIN:VEVENT
DTSTART;TZID=Europe/Paris:20250628T123000
DTEND;TZID=Europe/Paris:20250628T190000
DTSTAMP:20260423T165846
CREATED:20250507T095459Z
LAST-MODIFIED:20250627T101851Z
UID:270440-1751113800-1751137200@vendredix.fr
SUMMARY:Marche des fiertés Paris 2025
DESCRIPTION:La Marché des Fiertés de Paris\, événement majeur pour la communauté LGBTQ+ et ses allié·e·s\, revient le samedi 28 juin 2025. Cet événement d’envergure nationale combinera revendications pour l’égalité des droits et célébration de la diversité dans les rues de la capitale française. \nMarche des Fiertés LGBTQI+ à Paris\, le parcours 2025\n\nDépart : 13h30 depuis le métro Palais-Royal – Musée du Louvre (lignes 1 et 7)\nArrivée : Place de la Nation\n\n  \nPlus d’infos
URL:https://vendredix.fr/event/marche-des-fiertes-paris-2025/
ATTACH;FMTTYPE=image/jpeg:https://vendredix.fr/wp-content/uploads/2025/05/drapeaugay.jpg
END:VEVENT
END:VCALENDAR