BEGIN:VCALENDAR
VERSION:2.0
PRODID:-//VendrediX - ECPv6.15.20//NONSGML v1.0//EN
CALSCALE:GREGORIAN
METHOD:PUBLISH
X-WR-CALNAME:VendrediX
X-ORIGINAL-URL:https://vendredix.fr
X-WR-CALDESC:Évènements pour VendrediX
REFRESH-INTERVAL;VALUE=DURATION:PT1H
X-Robots-Tag:noindex
X-PUBLISHED-TTL:PT1H
BEGIN:VTIMEZONE
TZID:Europe/Paris
BEGIN:DAYLIGHT
TZOFFSETFROM:+0100
TZOFFSETTO:+0200
TZNAME:CEST
DTSTART:20240331T010000
END:DAYLIGHT
BEGIN:STANDARD
TZOFFSETFROM:+0200
TZOFFSETTO:+0100
TZNAME:CET
DTSTART:20241027T010000
END:STANDARD
BEGIN:DAYLIGHT
TZOFFSETFROM:+0100
TZOFFSETTO:+0200
TZNAME:CEST
DTSTART:20250330T010000
END:DAYLIGHT
BEGIN:STANDARD
TZOFFSETFROM:+0200
TZOFFSETTO:+0100
TZNAME:CET
DTSTART:20251026T010000
END:STANDARD
BEGIN:DAYLIGHT
TZOFFSETFROM:+0100
TZOFFSETTO:+0200
TZNAME:CEST
DTSTART:20260329T010000
END:DAYLIGHT
BEGIN:STANDARD
TZOFFSETFROM:+0200
TZOFFSETTO:+0100
TZNAME:CET
DTSTART:20261025T010000
END:STANDARD
BEGIN:DAYLIGHT
TZOFFSETFROM:+0100
TZOFFSETTO:+0200
TZNAME:CEST
DTSTART:20270328T010000
END:DAYLIGHT
BEGIN:STANDARD
TZOFFSETFROM:+0200
TZOFFSETTO:+0100
TZNAME:CET
DTSTART:20271031T010000
END:STANDARD
END:VTIMEZONE
BEGIN:VEVENT
DTSTART;TZID=Europe/Paris:20250904T180000
DTEND;TZID=Europe/Paris:20251225T020000
DTSTAMP:20260423T094051
CREATED:20250831T090205Z
LAST-MODIFIED:20250831T091235Z
UID:276343-1757008800-1766628000@vendredix.fr
SUMMARY:La Qonasse
DESCRIPTION:🎉 Soirée Qonasse – C’est quoi le délire ? \nUne soirée queer déjantée et ultra festive au Freedj\, un joyeux chaos emmené par Kyssy Bang Bang et sa clique. \n💄 Drag shows\, quizz\, surprises et performances kitsch à souhait🎧 DJs : Playlist Qonasse certified. Du son qui passe du kitsch nostalgique au “mais c’est quoi cette dinguerie ?!” sans prévenir. (Mention spéciale aux remixs douteux qu’on adore.)🍸 Happy hour de 18h à 22h → 1 verre acheté = 1 offert👑 Ambiance libérée\, queer\, pailletée et sans complexe🎭 Thèmes décalés (rentrée\, Eurovision\, etc.). \nPrêt à libérer ta Qonasse intérieure ? 💋 alors cet After-work Drag pas comme les autres est pour toi ! \n			\n				PLUS D'INFOS\n			\n				\n				\n				\n				\n				Lieu : Freedj – 35 rue sainte croix de la Bretonnerie Paris 03Date : Tous les Jeudis à partir de 18h
URL:https://vendredix.fr/event/la-qonasse/
ATTACH;FMTTYPE=image/jpeg:https://vendredix.fr/wp-content/uploads/2025/08/qonnasse1.jpg
END:VEVENT
BEGIN:VEVENT
DTSTART;TZID=Europe/Paris:20250913T200000
DTEND;TZID=Europe/Paris:20260103T230000
DTSTAMP:20260423T094051
CREATED:20250827T090956Z
LAST-MODIFIED:20250827T091413Z
UID:275868-1757793600-1767481200@vendredix.fr
SUMMARY:20ème Parure
DESCRIPTION:✨ Nouveau rendez-vous à Paris ! ✨ \nLa nouvelle revue “20ème Parure” débarque au restaurant Juicy Pop ! \nCréée par Kévin Poussard & Montoya\, elle réunit chaque samedi les plus fabuleux artistes transformistes & drag queens.Artistes : Tristant Choquet – Kyssy Bang Bang – Alizée Shane – Tara Jackson \n🎟 Deux formules :🍽 Dîner-Spectacle – 100€🥂 Spectacle + conso – 50€ \n			\n				\n				\n				\n				\n				Date : tous les samedis soirs (diner-spectacle ou spectacle seul) à partir de 20hLieu : Juicy Pop – 21 Rue des Rigoles\, 75020 Paris \n			\n				RESERVER
URL:https://vendredix.fr/event/20eme-parure/
ATTACH;FMTTYPE=image/jpeg:https://vendredix.fr/wp-content/uploads/2025/08/20eme-parure.jpg
END:VEVENT
BEGIN:VEVENT
DTSTART;TZID=Europe/Paris:20250918T200000
DTEND;TZID=Europe/Paris:20260228T220000
DTSTAMP:20260423T094051
CREATED:20250729T112505Z
LAST-MODIFIED:20260407T072519Z
UID:274543-1758225600-1772316000@vendredix.fr
SUMMARY:La Chaumière
DESCRIPTION:Vincent Gestermann et Carline Sophie en Concert à La Chaumière \n			\n				\n				\n				\n				\n				Retrouve Vincent Gestermann et Caroline Sophie tous les troisièmes jeudis du mois pour une soirée musicale intime\, en concert piano voix\, au Bar Le Bric à Brac\, pour la soirée La Chaumière \n			\n				\n				\n				\n				\n				\n			\n				\n				\n				\n				\n				L’entrée est libre et l’ambiance se veut chaleureuse et décontractée\, comme dans un salon. Installe-toi confortablement dans un fauteuil et laisse-toi porter par la musique. \n			\n			\n				\n				\n				\n				\n				\n				\n				\n				\n				\n				\nLa soirée : 🎶🎹La Chaumière 🎤🎶\, Evénement musical avec Carline Sophie 🎤🎶\, Vincent Gestermann 🎹🎶 et TOI!!!\nSafe place🏳️‍⚧️🏳️‍🌈🏳️\nChaque 3ème Jeudi du mois de 20h00 à 22h00\nLieu: Bar le Bric à Brac :108 rue Oberkampf 75011 Paris\nEntrée libre (au chapeau pour les artistes)\nSnacking et boissons (en happy hour) sur place 🥂🍾🍷🧀🍔🍟 frites maison\, burgers\, planches charcuteries ou fromage ou les deux et de magnifiques cocktails avec ou sans alcool\nAmbiance : Petit salon\, comme à la maison\, assis dans un fauteuil\, ou un canapé à partager\, la musique et pourquoi pas : chanter avec nous ! 🎹🎶🎤🎶\n\nAffiche : @sylvain.otto \n#chant #paris #piano #chansonfrancaise #commealamaison #bienveillance #Paris11 #safeplace #vincentgestermann \n			\n				S'Y RENDRE
URL:https://vendredix.fr/event/la-chaumiere/
ATTACH;FMTTYPE=image/jpeg:https://vendredix.fr/wp-content/uploads/2025/07/chaumiere-scaled.jpeg
END:VEVENT
BEGIN:VEVENT
DTSTART;TZID=Europe/Paris:20251003T170000
DTEND;TZID=Europe/Paris:20251004T060000
DTSTAMP:20260423T094051
CREATED:20250716T161421Z
LAST-MODIFIED:20251001T084324Z
UID:274152-1759510800-1759557600@vendredix.fr
SUMMARY:VendrediXXL Bordeaux
DESCRIPTION:🏳️‍🌈Bordeaux\, t’es prêt ? VENDREDIXXL débarque au Bien Public — et on n’a pas fait les choses à moitié avec six ambiances ! Un événement LGBTQIA+ hétéro friendly pour tous. \n			\n				PLUS D'INFOS\n			\n				\n				\n				\n				\n				VENDREDIXXL est plus qu’une soirée\, c’est un Festival Queer \nAFTERWORKCABARET D’IVRESSECONCERT QUEERPERFORMERSCAVE ELECTRICBITCHY FLOORBESTIAL ZONE
URL:https://vendredix.fr/event/vendredixxl-bordeaux/
LOCATION:Bien Public\, 68 Quai Deschamps\, Bordeaux\, 33100\, France
CATEGORIES:VendrediXXL
ATTACH;FMTTYPE=image/jpeg:https://vendredix.fr/wp-content/uploads/2025/07/vxxl_4x5_03OCT.jpg
END:VEVENT
BEGIN:VEVENT
DTSTART;TZID=Europe/Paris:20251010T190000
DTEND;TZID=Europe/Paris:20251011T060000
DTSTAMP:20260423T094051
CREATED:20250426T223729Z
LAST-MODIFIED:20250916T064919Z
UID:269595-1760122800-1760162400@vendredix.fr
SUMMARY:VendrediXXL Bang Bang Bar
DESCRIPTION:VENDREDIXXL est plus qu’une soirée\, c’est un festival LGBTQIA+.et artistique qui se déroule un vendredi par mois à la Bellevilloise\, à Paris. C’est un rendez-vous très populaire de la vie nocturne parisienne\, connu pour son ambiance festive\, inclusive et pluridisciplinaire. \n\nInclusivité : La soirée est ouverte à tou.te.s\, quels que soient l’âge\, l’orientation sexuelle ou l’identité de genre. Elle est particulièrement appréciée de la communauté LGBTQIA+.\nDiversité artistique : VendrediXXL propose une programmation très variée\, avec de la musique Electro et Pop\, ainsi qu’un cabaret\, un concert d’artistes queer\, des performances de danse\, de la vidéo\, et d’autres formes d’art visuel.\nAmbiance “XXL” : Le nom “XXL” fait référence à l’ampleur de l’événement\, avec plusieurs salles sur 4 étages:  Electric Cave\, Bitchy Floor\, Cabaret d’Ivresse\, Concert Queer\, ainsi que plusieurs espaces extérieurs.\n\nVENDREDIXXL est une expérience complète qui allie fête\, musique\, performances artistiques et un esprit d’ouverture et de bienveillance. \n\n\n			\n				INFOS & PREVENTES\n			\n				\n				\n				\n				\n				\n\nENTREE GRATUITE A L’OUVERTUREBILLETS SUR PLACEAvant 21h : 15€Après 21h : 25€ \n\n\n			\n			\n				\n				\n				\n				\n				\n				\n				\n				\n				\n				\n				\n				\n					\n                 🔥 SCRUFF PRO offert si tu viens à VENDREDIXXLT’as toujours rêvé de tester SCRUFF PRO sans te ruiner ? VENDREDIXXL et SCRUFF s’associent pour te faire kiffer encore plus fort ! Télécharge l’appli avant de venir\, et hop : 1 semaine de Pro offerte rien que pour toi. Oui\, tu as bien... \n   NOUVELLE CLIM parce que c’est toi qui es HOT!🔥 TROP CHAUD ? ON A LA SOLUTION (ET C’EST PAS JUSTE T’ENLEVER TON T-SHIRT) 😏 T’es en train de fondre comme un glaçon en enfer ? La Bellevilloise a sorti l’artillerie lourde : une clim’ de ouf dans plusieurs salles pour que tu puisses danser... \n   20H30→22H00 CONCERT.LIVEChaque VendrediXXL\, de 20h30 à 22h00\, tu as rendez-vous avec un concert exceptionnel d'artistes Queers Electro-Pop. C'est le moment idéal pour découvrir de nouvelles pépites et te laisser emporter par des sons qui te parlent. Et la bonne... \n   TAROT QUEER : Et si ton destin était plus hot que ton Crush?Envie de savoir si ton crush va enfin craquer ou si ton ex va revenir en pleurnichant ? Julie\, notre sorcière préférée\, t’attend à la Halle aux Oliviers pour te révéler les secrets de l’univers… et accessoirement te dire si tu vas rentrer... \n   21H30→05H00 BESTIAL.ZONE"À tous ceux qui ont survécu à la fournaise de la Bestial Zone lors de la dernière VENDREDIXXL… Oui\, on a frôlé le sauna géant à cause de la clim de la salle qui a lâché pendant la coupure de courant. On a tout tenté pour la relancer\, mais... \n   22H00→06H00 CAVE.ELECTRIC22H00 → 06H00 – CAVE ELECTRIC : LA NUIT OÙ ÇA DÉBORDE Dès l’ouverture\, la salle est déjà pleine à craquer – et ça ne va pas se calmer. De 22h à l’aube\, c’est l’enfer sexy\, un délire sans fin où les mecs torse nu\, les corps en sueur et les... \n   PLUS GRAND : 300m2 en plus et un étage en plus!Depuis Aout 2025\, VENDREDIXXL est en version SURDIMENSIONNÉE ! On n’a jamais aussi bien porté notre nom : XXL. Prépare-toi à transpirer — et à couiner de plaisir. Clubbing dès 22h\, inauguration du Bitchy Floor\, nouvelle Bestial Zone... ça va... \n   TOURNAGE VIDEO X\, c’est toi qu’on veut!🔥 VENDREDIXXL CHERCHE SES NOUVELLES ICÔNES POUR LA BESTIAL ZONE ! 🔥 On recrute des stars du X en herbe pour nos vidéos hot pendant VENDREDIXXL ! 🎥✨On veut : Des mecs virils (ou pas du tout)\, Des meufs pulpeuses et audacieuses\, Des créatures... \n   TATTOO par Tom la CrapuleAlors\, les copin·es ! Envie d'un souvenir indélébile de folie ? Tom la Crapule\, notre tatoueur chouchou\, débarque à VENDREDIXXL pour t'encrer la peau toute la soirée à la Halle aux Oliviers\, de 19h00 à 23h00.Imagine : toi\, ton épaule\, et le... \n   Prochaine VendrediXXLPréventes par SHOTGUN pour la prochaine soirée VendrediXXL Tu n’as pas eu le temps de prendre ta prévente pour le VendrediXXL 30 AOÛT ? BILLETS DISPONIBLES SUR PLACEA PARTIR DE 19H 2500 m² de fête\, tout le monde pourra entrer. BILLETS... \n   22H00→05H00 BITCHY.FLOORLa Nuit Où la Pop Explose sur le Bitch Floor ! Prépare-toi à une immersion totale dans l'énergie débridée de l'hyperpop\, le Bitch Floor\, le repaire des rythmes explosifs et des mélodies avant-gardistes.Que tu sois un connaisseur aguerri de... \n   XPERTS ANGELS : Tes Alliés de l’OmbreSalut toi\, Ici\, à La Bestial Zone et dans tout le club de La Bellevilloise\, on a une règle d’or : ton plaisir et ta sécurité passent avant tout. Et pour ça\, on a nos Xperts Angels – ces super-héros·ïnes discret·e·s\, reconnaissables à leur... \n   19H00→21H45 CABARET.D’IVRESSE"Le Cabaret d’Ivresse : ton apéro musical débridé avant l’explosion VendrediXXL ! Tu veux un avant-goût de folie pour lancer ta soirée ? Le Cabaret d’Ivresse\, c’est the place to be. Un mélange détonant de chansons revisitées\, d’humour déjanté... \n   LES VOLEURS\, on les a à l’œil !(Version 2.0 : Pièges & Muscles) La Bestial Zone\, c’est l’endroit où tu lâches prise\, pas où tu lâches ton téléphone. On sait que t’as des trucs précieux dans tes poches (et pas que ton portefeuille\, hein 😉)\, alors on a tout prévu pour... \n   VESTIAIRE GRATUIT POUR TON TELEPHONE avant de rentrer dans la Bestial Zone​📵 TÉLÉPHONE EN PAUSE\, PLAISIR EN MODE ON Avant de plonger dans l’ambiance chaude et débridée de la Bestial Zone\, on te demande un petit effort : lâche ton téléphone\, mon beau/ma belle. 😈Oui\, on sait\, il est précieux\, mais ici\, ton plus bel...
URL:https://vendredix.fr/event/vendredixxl-6/
LOCATION:Bellevilloise\, 19-21 Rue Boyer\, 75020 Paris\, Paris\, France
CATEGORIES:VendrediXXL
ATTACH;FMTTYPE=image/jpeg:https://vendredix.fr/wp-content/uploads/2025/09/vxxl_1x1_100CT-1.jpg
END:VEVENT
BEGIN:VEVENT
DTSTART;TZID=Europe/Paris:20251017T190000
DTEND;TZID=Europe/Paris:20251018T020000
DTSTAMP:20260423T094051
CREATED:20250926T091746Z
LAST-MODIFIED:20251001T084830Z
UID:278329-1760727600-1760752800@vendredix.fr
SUMMARY:VendrediX République
DESCRIPTION:🔥 Il y a presque 10 ans\, tout a commencé ici. Un bar à République\, une bande de potes\, une envie de faire la fête autrement. C’est le point de départ de l’aventure VendrediX. On te propose un back to basics : simplicité\, énergie\, et ce feu qui nous rassemble depuis le premier soir. 🍸 Bar refait à neuf & une terrasse XXL couverte \n🎶 DJ set : une première ambiance chill & apéro\, avant de monter en puissance vers un mix electro-pop-disco-house qui fera vibrer la place jusqu’à 2h. \n💥 Pas juste une soirée\, un voyage dans le temps qui nous ramène à l’essence même de VendrediX. Alors\, prêt.e.s à revivre l’histoire et à écrire le futur ensemble ? 🚀 \n			\n				Ton billet
URL:https://vendredix.fr/event/vendredix/
LOCATION:Fluctuat Nec Mergitur\, 18 Place de la République\, Paris\, 75010\, France
CATEGORIES:VendrediX
ATTACH;FMTTYPE=image/jpeg:https://vendredix.fr/wp-content/uploads/2025/09/vendredix-republique2025.jpg
END:VEVENT
BEGIN:VEVENT
DTSTART;TZID=Europe/Paris:20251022T180000
DTEND;TZID=Europe/Paris:20251023T020000
DTSTAMP:20260423T094051
CREATED:20250523T085306Z
LAST-MODIFIED:20251014T171247Z
UID:271588-1761156000-1761184800@vendredix.fr
SUMMARY:MercrediX LIVE & PLAY
DESCRIPTION:Préparez vos corps et vos âmes : ce mercredi\, on vous embarque pour une soirée qui va vous retourner comme une crêpe bien grillée ! Au programme\, un combo explosif qui va vous faire danser jusqu’à l’aube\, et peut-être même au-delà. \n			\n				\n				\n				\n				\n				1ère partie : Anita en concert – La déesse pop débarque ! 🎤✨ Anita\, cette pépite électro-pop qui fait vibrer les cœurs et les bassins\, va vous en mettre plein les oreilles (et les yeux\, parce qu’elle a le style en plus\, hein). Entre mélodies envoûtantes et beats qui cognent\, elle va vous préparer comme il se doit pour la suite. Préparez vos cordes vocales\, parce que vous allez hurler ses tubes comme si votre vie en dépendait. \n2ème partie : Clubbing pop avec DJ Loki Starfish – Le chaos glamour vous attend ! 🎧💥 Après ça\, direction la piste avec notre DJ préféré\, Loki Starfish\, qui va transformer le Son de La Terre en un terrain de jeu pop\, déjanté et ultra-dansant. Imaginez : des tubes qui claquent\, des remixes qui surprennent\, et une énergie qui vous donne envie de sauter sur les tables.  Loki\, c’est l’art de mixer la pop comme un pro\, avec une touche de folie qui fait toute la différence. \n			\n				PLUS D'INFOS
URL:https://vendredix.fr/event/mercredix-sur-seine-3/
LOCATION:Son De la Terre\, 2 Port de Montebello\, 75005 Paris\, Paris\, 75005\, France
CATEGORIES:MercrediX
ATTACH;FMTTYPE=image/jpeg:https://vendredix.fr/wp-content/uploads/2025/10/mx_22OCT_1x1.jpg
END:VEVENT
BEGIN:VEVENT
DTSTART;VALUE=DATE:20251031
DTEND;VALUE=DATE:20251222
DTSTAMP:20260423T094051
CREATED:20250605T185806Z
LAST-MODIFIED:20250801T093612Z
UID:272585-1761868800-1766361599@vendredix.fr
SUMMARY:A Partir D’un Rien
DESCRIPTION:VendrediX Sur Seine\n				\n				\n			\n			\n				\n				\n				\n				\n			\n				\n				\n				\n				\n				\n				\n				\n				\n				\n				\n				Mathieu et Jonas s’aiment. Ou s’aimaient. Ce soir\, ils se quittent. Pas pour de bon. Pas encore. \n			\n				\n				\n				\n				\n				\n			\n				\n				\n				\n				\n				Dans cette chambre vidée de toute intimité\, autour d’un lit sans passion\, de verres partagés et de silences trop lourds\, ils rejouent leur histoire : les premières fois\, les maladresses\, les fous rires\, les blessures qu’on tait. Une dernière danse\, entre tendresse\, sarcasme et vérités qui claquent. Et si\, à partir de presque rien\, on pouvait tout briser et tout perdre ? \n			\n				\n				\n				\n				\n				\n			\n			\n				\n				\n				\n				\n				\n				\n				\n				\n				\n				Une comédie dramatique percutante\, drôle et lucide sur l’usure du quotidien\, les idéaux qui s’effondrent… et l’amour qui résiste. Ou pas. \n			\n				\n				\n				\n				\n				Avec Nicolas Bouyre & Yohann LavéantDe Silas Van AschScénographie Julien O Van Den DaeleCréation lumière Loïc PracheChorégraphie Kévin Saenger \n			\n				\n				\n				\n				\n				\n			\n				\n				\n				\n				\n				A partir du 31 octobre 2025 au théâtre Clavel. \nVendredis 19h30Dimanches 16h00 \n			\n				RESERVER
URL:https://vendredix.fr/event/a-partir-dun-rien/
ATTACH;FMTTYPE=image/jpeg:https://vendredix.fr/wp-content/uploads/2025/05/rien1.jpg
END:VEVENT
END:VCALENDAR