BEGIN:VCALENDAR
VERSION:2.0
PRODID:-//VendrediX - ECPv6.15.20//NONSGML v1.0//EN
CALSCALE:GREGORIAN
METHOD:PUBLISH
X-ORIGINAL-URL:https://vendredix.fr
X-WR-CALDESC:Évènements pour VendrediX
REFRESH-INTERVAL;VALUE=DURATION:PT1H
X-Robots-Tag:noindex
X-PUBLISHED-TTL:PT1H
BEGIN:VTIMEZONE
TZID:Europe/Paris
BEGIN:DAYLIGHT
TZOFFSETFROM:+0100
TZOFFSETTO:+0200
TZNAME:CEST
DTSTART:20240331T010000
END:DAYLIGHT
BEGIN:STANDARD
TZOFFSETFROM:+0200
TZOFFSETTO:+0100
TZNAME:CET
DTSTART:20241027T010000
END:STANDARD
BEGIN:DAYLIGHT
TZOFFSETFROM:+0100
TZOFFSETTO:+0200
TZNAME:CEST
DTSTART:20250330T010000
END:DAYLIGHT
BEGIN:STANDARD
TZOFFSETFROM:+0200
TZOFFSETTO:+0100
TZNAME:CET
DTSTART:20251026T010000
END:STANDARD
BEGIN:DAYLIGHT
TZOFFSETFROM:+0100
TZOFFSETTO:+0200
TZNAME:CEST
DTSTART:20260329T010000
END:DAYLIGHT
BEGIN:STANDARD
TZOFFSETFROM:+0200
TZOFFSETTO:+0100
TZNAME:CET
DTSTART:20261025T010000
END:STANDARD
BEGIN:DAYLIGHT
TZOFFSETFROM:+0100
TZOFFSETTO:+0200
TZNAME:CEST
DTSTART:20270328T010000
END:DAYLIGHT
BEGIN:STANDARD
TZOFFSETFROM:+0200
TZOFFSETTO:+0100
TZNAME:CET
DTSTART:20271031T010000
END:STANDARD
END:VTIMEZONE
BEGIN:VEVENT
DTSTART;TZID=Europe/Paris:20250918T200000
DTEND;TZID=Europe/Paris:20260228T220000
DTSTAMP:20260423T014920
CREATED:20250729T112505Z
LAST-MODIFIED:20260407T072519Z
UID:274543-1758225600-1772316000@vendredix.fr
SUMMARY:La Chaumière
DESCRIPTION:Vincent Gestermann et Carline Sophie en Concert à La Chaumière \n			\n				\n				\n				\n				\n				Retrouve Vincent Gestermann et Caroline Sophie tous les troisièmes jeudis du mois pour une soirée musicale intime\, en concert piano voix\, au Bar Le Bric à Brac\, pour la soirée La Chaumière \n			\n				\n				\n				\n				\n				\n			\n				\n				\n				\n				\n				L’entrée est libre et l’ambiance se veut chaleureuse et décontractée\, comme dans un salon. Installe-toi confortablement dans un fauteuil et laisse-toi porter par la musique. \n			\n			\n				\n				\n				\n				\n				\n				\n				\n				\n				\n				\nLa soirée : 🎶🎹La Chaumière 🎤🎶\, Evénement musical avec Carline Sophie 🎤🎶\, Vincent Gestermann 🎹🎶 et TOI!!!\nSafe place🏳️‍⚧️🏳️‍🌈🏳️\nChaque 3ème Jeudi du mois de 20h00 à 22h00\nLieu: Bar le Bric à Brac :108 rue Oberkampf 75011 Paris\nEntrée libre (au chapeau pour les artistes)\nSnacking et boissons (en happy hour) sur place 🥂🍾🍷🧀🍔🍟 frites maison\, burgers\, planches charcuteries ou fromage ou les deux et de magnifiques cocktails avec ou sans alcool\nAmbiance : Petit salon\, comme à la maison\, assis dans un fauteuil\, ou un canapé à partager\, la musique et pourquoi pas : chanter avec nous ! 🎹🎶🎤🎶\n\nAffiche : @sylvain.otto \n#chant #paris #piano #chansonfrancaise #commealamaison #bienveillance #Paris11 #safeplace #vincentgestermann \n			\n				S'Y RENDRE
URL:https://vendredix.fr/event/la-chaumiere/
ATTACH;FMTTYPE=image/jpeg:https://vendredix.fr/wp-content/uploads/2025/07/chaumiere-scaled.jpeg
END:VEVENT
BEGIN:VEVENT
DTSTART;TZID=Europe/Paris:20260206T190000
DTEND;TZID=Europe/Paris:20260207T020000
DTSTAMP:20260423T014920
CREATED:20260108T175523Z
LAST-MODIFIED:20260201T092814Z
UID:284443-1770404400-1770429600@vendredix.fr
SUMMARY:VendrediX République
DESCRIPTION:Un bar à République\, une bande de mecs chauds\, une envie de défoncer les codes. C’est comme ça que VendrediX est né\, bébé. On te propose un retour aux sources : simplicité\, énergie\, et ce kiff qui nous colle à la peau depuis le premier shot. \n🍸 Un bar flambant neuf et une terrasse XXL couverte (parce qu’on kiffe l’extérieur\, même sous la pluie). \n🎶 DJ set en deux temps : d’abord un apéro chill pour se mettre en jambe\, puis un mix electro-pop-disco-house qui va faire trembler la place jusqu’à 2h. Oui\, on va tout casser. \n💥 C’est pas qu’une soirée\, c’est un délire temporel. On remonte le temps pour retrouver l’esprit originel de VendrediX\, mais avec encore plus de folie. Alors\, tu viens écrire la suite avec nous\, ou tu restes scotché·e à ton canapé ? 😏 \n			\n				PLUS D'INFO
URL:https://vendredix.fr/event/vendredix-republique-7/
LOCATION:Fluctuat Nec Mergitur\, 18 Place de la République\, Paris\, 75010\, France
CATEGORIES:VendrediX
ATTACH;FMTTYPE=image/jpeg:https://vendredix.fr/wp-content/uploads/2025/12/vx_repub_1X1.jpg
END:VEVENT
BEGIN:VEVENT
DTSTART;TZID=Europe/Paris:20260213T190000
DTEND;TZID=Europe/Paris:20260214T060000
DTSTAMP:20260423T014920
CREATED:20250818T150659Z
LAST-MODIFIED:20260206T081859Z
UID:275450-1771009200-1771048800@vendredix.fr
SUMMARY:VendrediXXL ENSEMBLE
DESCRIPTION:VENDREDIXXL est plus qu’une soirée\, c’est un festival LGBTQIA+.et artistique qui se déroule un vendredi par mois à la Bellevilloise\, à Paris. C’est un rendez-vous très populaire de la vie nocturne parisienne\, connu pour son ambiance festive\, inclusive et pluridisciplinaire. \n			\n				INFOS\n			\n				\n				\n				\n				\n				\n\nENTREE GRATUITE A L’OUVERTUREBILLETS SUR PLACEAvant 21h : 15€Après 21h : 25€ \n\n\n			\n				PREVENTES\n			\n			\n				\n				\n				\n				\n				\n				\n				\n				\n				\n				5 ambiances :Cabaret d’Ivresse | Concert | Bitchy Floor (Pop & HyperPop) | Cave Electric (Electro & Techno) | Bestial Zone (Arts & Sexe) \n3000m2 sur 4 étagesJardin & TerrasseStand NourritureStand TattooOracle & TarotPréventionShows & Surprises
URL:https://vendredix.fr/event/vendredixxl-9/
LOCATION:Bellevilloise\, 19-21 Rue Boyer\, 75020 Paris\, Paris\, France
CATEGORIES:VendrediXXL
ATTACH;FMTTYPE=image/jpeg:https://vendredix.fr/wp-content/uploads/2026/01/vxxl_1x1_13FEV.jpg
END:VEVENT
BEGIN:VEVENT
DTSTART;TZID=Europe/Paris:20260213T203000
DTEND;TZID=Europe/Paris:20260213T220000
DTSTAMP:20260423T014920
CREATED:20260204T165441Z
LAST-MODIFIED:20260216T081947Z
UID:285565-1771014600-1771020000@vendredix.fr
SUMMARY:Anita Avakian en concert à VENDREDIXXL
DESCRIPTION:Durant chaque VENDREDIXXL\, de 20h30 à 22h00\, tu as rendez-vous avec un concert exceptionnel d’artistes Queers Electro-Pop. C’est le moment idéal pour découvrir de nouvelles pépites et te laisser emporter par des sons qui te parlent. Et la bonne nouvelle\, c’est que l’accès à ce concert est inclus dans le prix de ta soirée VendrediXXL\, directement dans le Club. \n			\n				\n				\n				\n				\n				\n				\n			\n				Anita Avakian\n			\n			\n				\n				\n				\n				\n				\n			\n				\n				\n				\n				\n			\n				\n				\n				\n				\n				\n				\n				\n				\n				\n				\n				Pour assister au CONCERT\, il suffit de prendre une entrée pour VENDREDIXXL\, et en plus tu auras accès à toutes les salles de la soirée \n			\n			\n				\n				\n				\n				\n			\n				\n				\n				\n				\n				\n				\n				VENDREDIXXL\n			\n			\n				\n				\n				\n				\n				\n				PREVENTES\n			\n			\n				\n				\n				\n				\n				\n				TOUS LES CONCERTS
URL:https://vendredix.fr/event/anita-avakian/
LOCATION:Bellevilloise\, 19-21 Rue Boyer\, 75020 Paris\, Paris\, France
CATEGORIES:Concert
ATTACH;FMTTYPE=image/jpeg:https://vendredix.fr/wp-content/uploads/2025/03/AnitaX.jpg
END:VEVENT
BEGIN:VEVENT
DTSTART;TZID=Europe/Paris:20260220T190000
DTEND;TZID=Europe/Paris:20260221T020000
DTSTAMP:20260423T014920
CREATED:20251122T140256Z
LAST-MODIFIED:20260201T093014Z
UID:281130-1771614000-1771639200@vendredix.fr
SUMMARY:VendrediX République
DESCRIPTION:VendrediX République t’attend\, mon gars : viens cliquer des verres entre potes sur notre terrasse XXL\, et enchaîner sur des sons pop qui vont te faire oublier ta semaine de merde. \nOn danse\, on s’éclate\, on drague… Bref\, on lance ton week-end comme il se doit. \n🎟️ Gratos à l’entrée\, mais réserve ton spot sur Shotgun (parce qu’on kiffe les gens organisés). \n🧥 Vestiaire aussi gratis\, mais si t’as un peu de thune à lâcher pour la bonne cause\, on dit pas non. Alors\, tu signes où ? 😉 \n			\n				PLUS D'INFO
URL:https://vendredix.fr/event/vendredix-republique-6/
LOCATION:Fluctuat Nec Mergitur\, 18 Place de la République\, Paris\, 75010\, France
CATEGORIES:VendrediX
ATTACH;FMTTYPE=image/jpeg:https://vendredix.fr/wp-content/uploads/2025/12/vx_repub_1X1.jpg
END:VEVENT
BEGIN:VEVENT
DTSTART;TZID=Europe/Paris:20260225T180000
DTEND;TZID=Europe/Paris:20260226T020000
DTSTAMP:20260423T014920
CREATED:20250426T190509Z
LAST-MODIFIED:20260223T173912Z
UID:269516-1772042400-1772071200@vendredix.fr
SUMMARY:MercrediX - Annulé pour cause d'inondation
DESCRIPTION:On te propose l’une des plus belles scènes de Paris pour venir chanter. Accompagné au piano à queue ou avec ton propre instrument\, viens partager un morceau\, faire bouger la salle ou nous filer des frissons. \nEn deuxième partie\, un DJ vient prendre le relais pour faire monter l’ambiance. \n			\n			\n				\n				\n				\n				\n				\n				INFOS
URL:https://vendredix.fr/event/mercredix-sur-seine-2/
LOCATION:Son De la Terre\, 2 Port de Montebello\, 75005 Paris\, Paris\, 75005\, France
CATEGORIES:MercrediX
ATTACH;FMTTYPE=image/jpeg:https://vendredix.fr/wp-content/uploads/2025/12/mx_25FEV_1x1.jpg
END:VEVENT
BEGIN:VEVENT
DTSTART;TZID=Europe/Paris:20260227T190000
DTEND;TZID=Europe/Paris:20260228T020000
DTSTAMP:20260423T014920
CREATED:20251122T135719Z
LAST-MODIFIED:20260201T093036Z
UID:281122-1772218800-1772244000@vendredix.fr
SUMMARY:VendrediX République
DESCRIPTION:VendrediX République t’attend\, mon gars : viens cliquer des verres entre potes sur notre terrasse XXL\, et enchaîner sur des sons pop qui vont te faire oublier ta semaine de merde. \nOn danse\, on s’éclate\, on drague… Bref\, on lance ton week-end comme il se doit. \n🎟️ Gratos à l’entrée\, mais réserve ton spot sur Shotgun (parce qu’on kiffe les gens organisés). \n🧥 Vestiaire aussi gratis\, mais si t’as un peu de thune à lâcher pour la bonne cause\, on dit pas non. Alors\, tu signes où ? 😉 \n			\n				PLUS D'INFO
URL:https://vendredix.fr/event/vendredix-republique-4/
LOCATION:Fluctuat Nec Mergitur\, 18 Place de la République\, Paris\, 75010\, France
CATEGORIES:VendrediX
ATTACH;FMTTYPE=image/jpeg:https://vendredix.fr/wp-content/uploads/2025/12/vx_repub_1X1.jpg
END:VEVENT
END:VCALENDAR