BEGIN:VCALENDAR
VERSION:2.0
PRODID:-//VendrediX - ECPv6.15.20//NONSGML v1.0//EN
CALSCALE:GREGORIAN
METHOD:PUBLISH
X-ORIGINAL-URL:https://vendredix.fr
X-WR-CALDESC:Évènements pour VendrediX
REFRESH-INTERVAL;VALUE=DURATION:PT1H
X-Robots-Tag:noindex
X-PUBLISHED-TTL:PT1H
BEGIN:VTIMEZONE
TZID:Europe/Paris
BEGIN:DAYLIGHT
TZOFFSETFROM:+0100
TZOFFSETTO:+0200
TZNAME:CEST
DTSTART:20250330T010000
END:DAYLIGHT
BEGIN:STANDARD
TZOFFSETFROM:+0200
TZOFFSETTO:+0100
TZNAME:CET
DTSTART:20251026T010000
END:STANDARD
BEGIN:DAYLIGHT
TZOFFSETFROM:+0100
TZOFFSETTO:+0200
TZNAME:CEST
DTSTART:20260329T010000
END:DAYLIGHT
BEGIN:STANDARD
TZOFFSETFROM:+0200
TZOFFSETTO:+0100
TZNAME:CET
DTSTART:20261025T010000
END:STANDARD
BEGIN:DAYLIGHT
TZOFFSETFROM:+0100
TZOFFSETTO:+0200
TZNAME:CEST
DTSTART:20270328T010000
END:DAYLIGHT
BEGIN:STANDARD
TZOFFSETFROM:+0200
TZOFFSETTO:+0100
TZNAME:CET
DTSTART:20271031T010000
END:STANDARD
END:VTIMEZONE
BEGIN:VEVENT
DTSTART;TZID=Europe/Paris:20260605T173000
DTEND;TZID=Europe/Paris:20260606T060000
DTSTAMP:20260423T014924
CREATED:20260216T082552Z
LAST-MODIFIED:20260402T125951Z
UID:286263-1780680600-1780725600@vendredix.fr
SUMMARY:VendrediXXL
DESCRIPTION:VENDREDIXXL au Bien Public pour la plus déjantée des soirées LGBTQIA+ de Bordeaux ! 🎉🔥 \nPrès de 1500 corps en sueur\, 13h de folie non-stop (de 17h à 6h du mat’)\, et un programme qui déchire : \n\nCabaret de l’extravagance pour lancer les hostilités en beauté.\nBICHY FLOOR : pop et hyperpop pour faire trembler le dancefloor.\nCAVE ELECTRIC en sous-sol : de l’électro qui cogne\, et des écrans géants (4m !) qui balancent des images chaudes et fières de meufs et de mecs qui assument leur corps à fond.\nBESTIAL ZONE : parce qu’on a tous besoin d’un peu de liberté… et de plaisir.\n\nVendrediXXL\, c’est l’endroit où Bordeaux se lâche sans complexe. T’es prêt·e ?” 😏💃🕺 \n			\n				PLUS D'INFO\n			\n				\n				\n				\n				\n				\n			\n			\n				\n				\n				\n				\n			\n				\n				\n				\n				\n				\n				\n			\n				\n				\n				\n				\n				\n				\n				\n				\n				\n				4 AMBIANCES\n			\n				\n				\n				\n				\n				\n				\n				\n					\n                 21H00→06H00 BESTIAL.ZONEDe l'Art\, du Sexe et de Liberté dans le consentement \n   22H00→02H00 BITCHY.FLOORImmersion totale dans l’énergie débridée de la POP et HYPERPOP \n   21H00→06H00 CAVE.ELECTRICUn bon son ELECTRO où les corps en sueur et les basses qui cognent font la loi dans une salle incroyable \n   19H00→22H00 CABARETUn mélange détonant de chansons revisitées\, d’humour déjanté et d’énergie pure \n   17H00→02H00 AfterworkOn commence la soirée par un apéro dans le Belvédère du Bien Public \n   \n                \n             \n				\n			\n				\n				\n				\n				\n				\n				\n				\n					\n                 21H30→05H00 BESTIAL.ZONE"À tous ceux qui ont survécu à la fournaise de la Bestial Zone lors de la dernière VENDREDIXXL… Oui\, on a frôlé le sauna géant à cause de la clim de la salle qui a lâché pendant la coupure de courant. On a tout tenté pour la relancer\, mais... \nPLUS D'INFO    22H00→06H00 CAVE.ELECTRIC22H00 → 06H00 – CAVE ELECTRIC : LA NUIT OÙ ÇA DÉBORDE Dès l’ouverture\, la salle est déjà pleine à craquer – et ça ne va pas se calmer. De 22h à l’aube\, c’est l’enfer sexy\, un délire sans fin où les mecs torse nu\, les corps en sueur et les... \nPLUS D'INFO    19H00→21H45 CABARET.D’IVRESSE"Le Cabaret d’Ivresse : ton apéro musical débridé avant l’explosion VendrediXXL ! Tu veux un avant-goût de folie pour lancer ta soirée ? Le Cabaret d’Ivresse\, c’est the place to be. Un mélange détonant de chansons revisitées\, d’humour déjanté... \nPLUS D'INFO    20H30→22H00 CONCERT.LIVEChaque VendrediXXL\, de 20h30 à 22h00\, tu as rendez-vous avec un concert exceptionnel d'artistes Queers Electro-Pop. C'est le moment idéal pour découvrir de nouvelles pépites et te laisser emporter par des sons qui te parlent. Et la bonne... \nPLUS D'INFO    22H00→05H00 BITCHY.FLOORLa Nuit Où la Pop Explose sur le Bitch Floor ! Prépare-toi à une immersion totale dans l'énergie débridée de l'hyperpop\, le Bitch Floor\, le repaire des rythmes explosifs et des mélodies avant-gardistes.Que tu sois un connaisseur aguerri de... \nPLUS D'INFO
URL:https://vendredix.fr/event/vendredixxl-21/
LOCATION:Bien Public\, 68 Quai Deschamps\, Bordeaux\, 33100\, France
CATEGORIES:VendrediXXL
ATTACH;FMTTYPE=image/jpeg:https://vendredix.fr/wp-content/uploads/2026/02/vxxl_1x1_05JUIN.jpg
END:VEVENT
BEGIN:VEVENT
DTSTART;TZID=Europe/Paris:20260605T190000
DTEND;TZID=Europe/Paris:20260606T020000
DTSTAMP:20260423T014924
CREATED:20260422T092139Z
LAST-MODIFIED:20260422T092139Z
UID:290133-1780686000-1780711200@vendredix.fr
SUMMARY:VendrediX Sur Seine
DESCRIPTION:
URL:https://vendredix.fr/event/vendredix-sur-seine-22/
LOCATION:Scilicet\, 134 Voie Georges Pompidou\, 75001 Paris\, Paris\, France
CATEGORIES:VendrediX
END:VEVENT
BEGIN:VEVENT
DTSTART;TZID=Europe/Paris:20260612T190000
DTEND;TZID=Europe/Paris:20260613T060000
DTSTAMP:20260423T014924
CREATED:20250818T153127Z
LAST-MODIFIED:20260407T130700Z
UID:275477-1781290800-1781330400@vendredix.fr
SUMMARY:VendrediXXL
DESCRIPTION:VENDREDIXXL est plus qu’une soirée\, c’est un festival LGBTQIA+.et artistique qui se déroule un vendredi par mois à la Bellevilloise\, à Paris. C’est un rendez-vous très populaire de la vie nocturne parisienne\, connu pour son ambiance festive\, inclusive et pluridisciplinaire. \n\nInclusivité : La soirée est ouverte à tou.te.s\, quels que soient l’âge\, l’orientation sexuelle ou l’identité de genre. Elle est particulièrement appréciée de la communauté LGBTQIA+.\nDiversité artistique : VendrediXXL propose une programmation très variée\, avec de la musique Electro et Pop\, ainsi qu’un cabaret\, un concert d’artistes queer\, des performances de danse\, de la vidéo\, et d’autres formes d’art visuel.\nAmbiance “XXL” : Le nom “XXL” fait référence à l’ampleur de l’événement\, avec plusieurs salles sur 4 étages:  Electric Cave\, Bitchy Floor\, Cabaret d’Ivresse\, Concert Queer\, ainsi que plusieurs espaces extérieurs.\n\nVENDREDIXXL est une expérience complète qui allie fête\, musique\, performances artistiques et un esprit d’ouverture et de bienveillance. \n\n\n			\n				INFOS & PREVENTES\n			\n				\n				\n				\n				\n				\n\nENTREE GRATUITE A L’OUVERTUREBILLETS SUR PLACEAvant 21h : 15€Après 21h : 25€ \n\n\n			\n			\n				\n				\n				\n				\n				\n				\n				\n				\n				\n				\n				\n				\n					\n                 19H00→21H45 CABARET.D’IVRESSE"Le Cabaret d’Ivresse : ton apéro musical débridé avant l’explosion VendrediXXL ! Tu veux un avant-goût de folie pour lancer ta soirée ? Le Cabaret d’Ivresse\, c’est the place to be. Un mélange détonant de chansons revisitées\, d’humour déjanté... \n   LES VOLEURS\, on les a à l’œil !(Version 2.0 : Pièges & Muscles) La Bestial Zone\, c’est l’endroit où tu lâches prise\, pas où tu lâches ton téléphone. On sait que t’as des trucs précieux dans tes poches (et pas que ton portefeuille\, hein 😉)\, alors on a tout prévu pour... \n   22H00→06H00 CAVE.ELECTRIC22H00 → 06H00 – CAVE ELECTRIC : LA NUIT OÙ ÇA DÉBORDE Dès l’ouverture\, la salle est déjà pleine à craquer – et ça ne va pas se calmer. De 22h à l’aube\, c’est l’enfer sexy\, un délire sans fin où les mecs torse nu\, les corps en sueur et les... \n   TATTOO par Tom la CrapuleAlors\, les copin·es ! Envie d'un souvenir indélébile de folie ? Tom la Crapule\, notre tatoueur chouchou\, débarque à VENDREDIXXL pour t'encrer la peau toute la soirée à la Halle aux Oliviers\, de 19h00 à 23h00.Imagine : toi\, ton épaule\, et le... \n   21H30→05H00 BESTIAL.ZONE"À tous ceux qui ont survécu à la fournaise de la Bestial Zone lors de la dernière VENDREDIXXL… Oui\, on a frôlé le sauna géant à cause de la clim de la salle qui a lâché pendant la coupure de courant. On a tout tenté pour la relancer\, mais... \n   VESTIAIRE GRATUIT POUR TON TELEPHONE avant de rentrer dans la Bestial Zone​📵 TÉLÉPHONE EN PAUSE\, PLAISIR EN MODE ON Avant de plonger dans l’ambiance chaude et débridée de la Bestial Zone\, on te demande un petit effort : lâche ton téléphone\, mon beau/ma belle. 😈Oui\, on sait\, il est précieux\, mais ici\, ton plus bel... \n   🔥 SCRUFF PRO offert si tu viens à VENDREDIXXLT’as toujours rêvé de tester SCRUFF PRO sans te ruiner ? VENDREDIXXL et SCRUFF s’associent pour te faire kiffer encore plus fort ! Télécharge l’appli avant de venir\, et hop : 1 semaine de Pro offerte rien que pour toi. Oui\, tu as bien... \n   PLUS GRAND : 300m2 en plus et un étage en plus!Depuis Aout 2025\, VENDREDIXXL est en version SURDIMENSIONNÉE ! On n’a jamais aussi bien porté notre nom : XXL. Prépare-toi à transpirer — et à couiner de plaisir. Clubbing dès 22h\, inauguration du Bitchy Floor\, nouvelle Bestial Zone... ça va... \n   TAROT QUEER : Et si ton destin était plus hot que ton Crush?Envie de savoir si ton crush va enfin craquer ou si ton ex va revenir en pleurnichant ? Julie\, notre sorcière préférée\, t’attend à la Halle aux Oliviers pour te révéler les secrets de l’univers… et accessoirement te dire si tu vas rentrer... \n   TOURNAGE VIDEO X\, c’est toi qu’on veut!🔥 VENDREDIXXL CHERCHE SES NOUVELLES ICÔNES POUR LA BESTIAL ZONE ! 🔥 On recrute des stars du X en herbe pour nos vidéos hot pendant VENDREDIXXL ! 🎥✨On veut : Des mecs virils (ou pas du tout)\, Des meufs pulpeuses et audacieuses\, Des créatures... \n   NOUVELLE CLIM parce que c’est toi qui es HOT!🔥 TROP CHAUD ? ON A LA SOLUTION (ET C’EST PAS JUSTE T’ENLEVER TON T-SHIRT) 😏 T’es en train de fondre comme un glaçon en enfer ? La Bellevilloise a sorti l’artillerie lourde : une clim’ de ouf dans plusieurs salles pour que tu puisses danser... \n   22H00→05H00 BITCHY.FLOORLa Nuit Où la Pop Explose sur le Bitch Floor ! Prépare-toi à une immersion totale dans l'énergie débridée de l'hyperpop\, le Bitch Floor\, le repaire des rythmes explosifs et des mélodies avant-gardistes.Que tu sois un connaisseur aguerri de... \n   Prochaine VendrediXXLPréventes par SHOTGUN pour la prochaine soirée VendrediXXL Tu n’as pas eu le temps de prendre ta prévente pour le VendrediXXL 30 AOÛT ? BILLETS DISPONIBLES SUR PLACEA PARTIR DE 19H 2500 m² de fête\, tout le monde pourra entrer. BILLETS... \n   XPERTS ANGELS : Tes Alliés de l’OmbreSalut toi\, Ici\, à La Bestial Zone et dans tout le club de La Bellevilloise\, on a une règle d’or : ton plaisir et ta sécurité passent avant tout. Et pour ça\, on a nos Xperts Angels – ces super-héros·ïnes discret·e·s\, reconnaissables à leur... \n   20H30→22H00 CONCERT.LIVEChaque VendrediXXL\, de 20h30 à 22h00\, tu as rendez-vous avec un concert exceptionnel d'artistes Queers Electro-Pop. C'est le moment idéal pour découvrir de nouvelles pépites et te laisser emporter par des sons qui te parlent. Et la bonne...
URL:https://vendredix.fr/event/vendredixxl-15/
LOCATION:Bellevilloise\, 19-21 Rue Boyer\, 75020 Paris\, Paris\, France
CATEGORIES:VendrediXXL
ATTACH;FMTTYPE=image/jpeg:https://vendredix.fr/wp-content/uploads/2025/08/XXLeverymonth.jpg
END:VEVENT
BEGIN:VEVENT
DTSTART;TZID=Europe/Paris:20260619T190000
DTEND;TZID=Europe/Paris:20260620T020000
DTSTAMP:20260423T014924
CREATED:20260422T092329Z
LAST-MODIFIED:20260422T092329Z
UID:290135-1781895600-1781920800@vendredix.fr
SUMMARY:VendrediX Sur Seine
DESCRIPTION:
URL:https://vendredix.fr/event/vendredix-sur-seine-23/
LOCATION:Scilicet\, 134 Voie Georges Pompidou\, 75001 Paris\, Paris\, France
CATEGORIES:VendrediX
END:VEVENT
BEGIN:VEVENT
DTSTART;TZID=Europe/Paris:20260620T230000
DTEND;TZID=Europe/Paris:20260621T070000
DTSTAMP:20260423T014924
CREATED:20251218T124631Z
LAST-MODIFIED:20260413T143619Z
UID:283486-1781996400-1782025200@vendredix.fr
SUMMARY:DI.X MIA MAO
DESCRIPTION:VENDREDIX fête ses DI.X ans en s’installant dans un nouveau lieu\, dans Paris\, pour une soirée XXL. \n			\n				\n				\n				\n				\n				Découvre une ancienne halle industrielle de 3 000 m²\, transformée en un Warehouse monumental pour devenir le plus grand club électro de la capitale. Ce lieu\, conçu pour une immersion totale\, allie un système son révolutionnaire et une scénographie lumineuse à couper le souffle\, digne des plus grands festivals. \n			\n				\n				\n				\n				\n				Ne manque pas cette nuit exceptionnelle! \n			\n				PLUS D'INFO
URL:https://vendredix.fr/event/di-x/
LOCATION:Mia Mao\, 12/A rue Ella Fitzgerald\, Paris\, 75019\, France
CATEGORIES:DI.X
ATTACH;FMTTYPE=image/png:https://vendredix.fr/wp-content/uploads/2026/04/Post_1080x1080.png
END:VEVENT
BEGIN:VEVENT
DTSTART;TZID=Europe/Paris:20260626T190000
DTEND;TZID=Europe/Paris:20260627T060000
DTSTAMP:20260423T014924
CREATED:20251127T160055Z
LAST-MODIFIED:20251127T160115Z
UID:282494-1782500400-1782540000@vendredix.fr
SUMMARY:VendrediXXL Pride
DESCRIPTION:
URL:https://vendredix.fr/event/vendredixxl-pride/
LOCATION:Wanderlust\, 32 Quai d'Austerlitz\, 75013 Paris\, Paris\, 75013\, France
CATEGORIES:VendrediXXL
END:VEVENT
END:VCALENDAR